BEGIN:VCALENDAR
VERSION:2.0
PRODID:-//Sapoa - ECPv6.15.20//NONSGML v1.0//EN
CALSCALE:GREGORIAN
METHOD:PUBLISH
X-WR-CALNAME:Sapoa
X-ORIGINAL-URL:https://sapoa.org.za
X-WR-CALDESC:Events for Sapoa
REFRESH-INTERVAL;VALUE=DURATION:PT1H
X-Robots-Tag:noindex
X-PUBLISHED-TTL:PT1H
BEGIN:VTIMEZONE
TZID:Africa/Johannesburg
BEGIN:STANDARD
TZOFFSETFROM:+0200
TZOFFSETTO:+0200
TZNAME:SAST
DTSTART:20240101T000000
END:STANDARD
END:VTIMEZONE
BEGIN:VEVENT
DTSTART;TZID=Africa/Johannesburg:20250521T100000
DTEND;TZID=Africa/Johannesburg:20250523T120000
DTSTAMP:20260425T045820
CREATED:20250225T115849Z
LAST-MODIFIED:20250403T085429Z
UID:6252-1747821600-1748001600@sapoa.org.za
SUMMARY:Mastering Commercial Lease Agreements 3-Day Series Webinar
DESCRIPTION:This webinar offers insights into commercial leasing and provides a comprehensive understanding of the legal aspects\, negotiation strategies\, and best practices relating to commercial lease agreements. \nThrough engaging lectures and real-world examples\, you will gain valuable insights which will empower you with expertise needed to effectively craft and manage commercial lease agreements. \nSynopsis: \n\nIntroduction to Commercial Leasing\nTypes of Commercial Lease Agreements and Related Documentation\nLegal Framework of Commercial Leasing\nEssential Lease Terms and Provisions\nLease Drafting\, Negotiation and Strategy\nLease Compliance and Due Diligence\nLease Enforcement and Dispute Resolution\nTenant Rights and Obligations\nLease Renewals\, Extensions\, and Termination\nEmerging Trends in Commercial Leasing\n\nWho will benefit from this webinar? \nThis webinar is aimed at facilities managers\, property developers\, investors and entrepreneurs and commercial tenants who are involved in different aspects of commercial leasing and would like to gain a deeper understanding of this subject matter. \n  \nDelegates will receive a certificate of attendance at the end of completion.\n  \n\nCosts\nMembers: R3300 excluding VAT\nNon-Members: R6600 excluding VAT \n\nCancellation Policy\n\nPaid delegates who do not cancel at least 24 hours in advance\, or who fail to log in for the webinar\, will not be eligible for a refund.\nDelegates who register without payment will still be held liable for the outstanding amount.\n\n\n\nSpeaker\n \nRorisang Mzozoyana\nSenior Legal Counsel\nProperty Finance \n\nRegister now\n 
URL:https://sapoa.org.za/event/mastering-commercial-lease-agreements-3-day-series-webinar/
CATEGORIES:Online
END:VEVENT
END:VCALENDAR