BEGIN:VCALENDAR
VERSION:2.0
PRODID:-//Sapoa - ECPv6.15.20//NONSGML v1.0//EN
CALSCALE:GREGORIAN
METHOD:PUBLISH
X-WR-CALNAME:Sapoa
X-ORIGINAL-URL:https://sapoa.org.za
X-WR-CALDESC:Events for Sapoa
REFRESH-INTERVAL;VALUE=DURATION:PT1H
X-Robots-Tag:noindex
X-PUBLISHED-TTL:PT1H
BEGIN:VTIMEZONE
TZID:Africa/Johannesburg
BEGIN:STANDARD
TZOFFSETFROM:+0200
TZOFFSETTO:+0200
TZNAME:SAST
DTSTART:20240101T000000
END:STANDARD
END:VTIMEZONE
BEGIN:VEVENT
DTSTART;TZID=Africa/Johannesburg:20250618T083000
DTEND;TZID=Africa/Johannesburg:20250618T103000
DTSTAMP:20260425T032838
CREATED:20250516T082942Z
LAST-MODIFIED:20250605T154655Z
UID:6555-1750235400-1750242600@sapoa.org.za
SUMMARY:Gauteng Networking Breakfast – Revolutionising Commercial Property: Harnessing AI for Success
DESCRIPTION:Gauteng Networking Breakfast – Revolutionising Commercial Property: Harnessing AI for Success\n\nArtificial intelligence (AI) is rapidly transforming the commercial property sector\, offering unprecedented opportunities for efficiency\, accuracy\, and strategic advantage. From streamlining due diligence and automating lease abstraction to predictive market analysis and risk assessment\, AI is reshaping how property professionals operate and make decisions. \nAs leading industry players integrate AI into their operations\, the commercial property market is poised for a new era of innovation and growth. Lawyers and property professionals who embrace AI will be well-positioned to deliver enhanced value\, mitigate risks\, and maintain a competitive edge in an increasingly data-driven landscape. \nJoin us as we explore how harnessing AI can revolutionise commercial property and drive success in a dynamic market. \n\n\nCosts\nMembers: R550 excluding VAT\nNon-Members: R950 excluding VAT \n\nSpeakers\n \nMuhammad Gattoo\nPractice Head & Director – Real Estate \n \nSafee-Naaz Siddiqi\nSenior Associate – Knowledge Management \n \nSuné Kruger\nSenior Associate – Real Estate \n\nRegister now\n\nCancellation Policy\n\nPayment is due upon receipt of the invoice.\nCancellations will only be accepted if submitted in writing at least 3 full business days prior to the event.\nFailure to cancel within this time frame will result in liability for the full outstanding amount\, even if you do not attend.\n“No-shows” will be charged the full event fee unless cancellation has been received in accordance with the policy.\n\n\nSponsor
URL:https://sapoa.org.za/event/revolutionising-commercial-property-harnessing-ai-for-success/
LOCATION:CDH Johannesburg office\, 8th Floor\, Room 17\, 1 Protea Place | Cnr of Fredman and Protea Place Sandton\, Johannesburg\, Gauteng\, 2196\, South Africa
CATEGORIES:Gauteng
END:VEVENT
END:VCALENDAR