BEGIN:VCALENDAR
VERSION:2.0
PRODID:-//Sapoa - ECPv6.15.20//NONSGML v1.0//EN
CALSCALE:GREGORIAN
METHOD:PUBLISH
X-WR-CALNAME:Sapoa
X-ORIGINAL-URL:https://sapoa.org.za
X-WR-CALDESC:Events for Sapoa
REFRESH-INTERVAL;VALUE=DURATION:PT1H
X-Robots-Tag:noindex
X-PUBLISHED-TTL:PT1H
BEGIN:VTIMEZONE
TZID:Africa/Johannesburg
BEGIN:STANDARD
TZOFFSETFROM:+0200
TZOFFSETTO:+0200
TZNAME:SAST
DTSTART:20240101T000000
END:STANDARD
END:VTIMEZONE
BEGIN:VEVENT
DTSTART;TZID=Africa/Johannesburg:20250708T100000
DTEND;TZID=Africa/Johannesburg:20250708T110000
DTSTAMP:20260425T022114
CREATED:20250605T154349Z
LAST-MODIFIED:20250702T074128Z
UID:6607-1751968800-1751972400@sapoa.org.za
SUMMARY:SAPOA Research Webinar: Global Property Investment Trends 3 July 2025 [POSTPONED TO 08 JULY 2025]
DESCRIPTION:SAPOA Research Webinar: Global Property Investment Trends 3 July 2025 [POSTPONED TO 08 JULY 2025]\nThe global property market made a strong comeback in 2024\, shaking off two years of turbulence. South Africa dominated the leaderboard with 11.5% total returns\, driven by an unmatched 8.4% income return. Hotels and retail surged\, fuelling a renewed appetite for investment. \nBig deals defined the year—R21.7bn in local transactions and USD 1.6bn in offshore acquisitions\, marking the highest outbound spend since 2018. As 2025 begins\, cautious optimism is turning into opportunity. \n\nCosts\nMembers: R250 excluding VAT\nNon-Members: R425 excluding VAT \n\nTimes\n10:00 to 11:00 \n\nRSVP Before\n30 June 2025 \n\nSpeakers\n \nEileen Andrew\nVice President at MSCI \n\nRegistration\nRegister now\n  \n\nCancellation Policy\n\nPaid delegates who do not cancel at least 24 hours in advance\, or who fail to log in for the webinar\, will not be eligible for a refund.\nDelegates who register without payment will still be held liable for the outstanding amount.\n\n 
URL:https://sapoa.org.za/event/sapoa-research-webinar-global-property-investment-trends-3-july-2025/
CATEGORIES:Online
END:VEVENT
END:VCALENDAR