BEGIN:VCALENDAR
VERSION:2.0
PRODID:-//Sapoa - ECPv6.15.20//NONSGML v1.0//EN
CALSCALE:GREGORIAN
METHOD:PUBLISH
X-WR-CALNAME:Sapoa
X-ORIGINAL-URL:https://sapoa.org.za
X-WR-CALDESC:Events for Sapoa
REFRESH-INTERVAL;VALUE=DURATION:PT1H
X-Robots-Tag:noindex
X-PUBLISHED-TTL:PT1H
BEGIN:VTIMEZONE
TZID:Africa/Johannesburg
BEGIN:STANDARD
TZOFFSETFROM:+0200
TZOFFSETTO:+0200
TZNAME:SAST
DTSTART:20240101T000000
END:STANDARD
END:VTIMEZONE
BEGIN:VEVENT
DTSTART;TZID=Africa/Johannesburg:20250710T100000
DTEND;TZID=Africa/Johannesburg:20250710T120000
DTSTAMP:20260425T022110
CREATED:20250606T132620Z
LAST-MODIFIED:20250609T105218Z
UID:6612-1752141600-1752148800@sapoa.org.za
SUMMARY:Property Finance Webinar
DESCRIPTION:Property Finance Webinar\n\nThis webinar is designed to equip participants with a practical and comprehensive understanding of the various sources of finance available for both commercial and residential property projects. \nWhether you’re a property developer\, investor\, entrepreneur\, or professional in the built environment\, having a strong grasp of property finance is essential for making informed decisions\, structuring deals\, and accessing capital effectively. \nParticipants will gain insights into what lenders and investors look for when assessing funding proposals\, and how to position property projects for financial success. The webinar will demystify key financial instruments and strategies used in property transactions\, developments\, and acquisitions. \n  \nObjectives: By the end of the session\, participants will: \n\nUnderstand the key sources and types of finance available for property investments and developments.\nLearn how to structure deals using a mix of debt\, mezzanine\, and equity funding.\nExplore the application of financial tools such as development finance\, acquisition loans\, and lease discounting.\nGain insights into lender expectations\, credit assessments\, and risk evaluation processes.\nExamine real-world case studies and practical scenarios for financing projects.\n\n\n\nCosts\nMembers: R2 200 excluding VAT\nNon-Members: R5 500 excluding VAT \n\nSpeakers\n \nHenry Chitsulo\nManaging Director\nBold Moves 63 Pty (Ltd) \n\nRegister now\n\nCancellation Policy\n\nPaid delegates who do not cancel at least 24 hours in advance\, or who fail to log in for the webinar\, will not be eligible for a refund.\nDelegates who register without payment will still be held liable for the outstanding amount.
URL:https://sapoa.org.za/event/property-finance-webinar/
CATEGORIES:Online
END:VEVENT
END:VCALENDAR