BEGIN:VCALENDAR
VERSION:2.0
PRODID:-//Sapoa - ECPv6.15.20//NONSGML v1.0//EN
CALSCALE:GREGORIAN
METHOD:PUBLISH
X-ORIGINAL-URL:https://sapoa.org.za
X-WR-CALDESC:Events for Sapoa
REFRESH-INTERVAL;VALUE=DURATION:PT1H
X-Robots-Tag:noindex
X-PUBLISHED-TTL:PT1H
BEGIN:VTIMEZONE
TZID:Africa/Johannesburg
BEGIN:STANDARD
TZOFFSETFROM:+0200
TZOFFSETTO:+0200
TZNAME:SAST
DTSTART:20240101T000000
END:STANDARD
END:VTIMEZONE
BEGIN:VEVENT
DTSTART;TZID=Africa/Johannesburg:20250716T100000
DTEND;TZID=Africa/Johannesburg:20250716T120000
DTSTAMP:20260425T022201
CREATED:20250401T151150Z
LAST-MODIFIED:20250716T064840Z
UID:6406-1752660000-1752667200@sapoa.org.za
SUMMARY:The Property Development & Urban Design
DESCRIPTION:The Property Development & Urban Design\nThe webinar will look at how urban design principles are integrated into property development to create sustainable\, functional\, and aesthetically pleasing urban environments.\n\nThe impact of AI on the industry\nBuilding life cycle impact on asset management and development\nWorkplace Strategy Trends\nCase study on an integrated development process (Discovery building)\nCreating authentic experiences in urban design\nThe impact of sustainable and timeless designs\n\n\nCosts\nMembers: R1 100 excluding VAT\nNon-Members: R2 200 excluding VAT \n\nSpeaker\n \nPieter Engelbrecht\nHead of Developments\, Offices\, Residential\, Healthcare\nGrowthpoint Properties \n\nRegister now\n 
URL:https://sapoa.org.za/event/the-property-development-urban-design/
CATEGORIES:Online
END:VEVENT
END:VCALENDAR