BEGIN:VCALENDAR
VERSION:2.0
PRODID:-//Sapoa - ECPv6.15.20//NONSGML v1.0//EN
CALSCALE:GREGORIAN
METHOD:PUBLISH
X-ORIGINAL-URL:https://sapoa.org.za
X-WR-CALDESC:Events for Sapoa
REFRESH-INTERVAL;VALUE=DURATION:PT1H
X-Robots-Tag:noindex
X-PUBLISHED-TTL:PT1H
BEGIN:VTIMEZONE
TZID:Africa/Johannesburg
BEGIN:STANDARD
TZOFFSETFROM:+0200
TZOFFSETTO:+0200
TZNAME:SAST
DTSTART:20240101T000000
END:STANDARD
END:VTIMEZONE
BEGIN:VEVENT
DTSTART;TZID=Africa/Johannesburg:20250918T083000
DTEND;TZID=Africa/Johannesburg:20250918T103000
DTSTAMP:20260424T234626
CREATED:20250807T054836Z
LAST-MODIFIED:20250807T062527Z
UID:6934-1758184200-1758191400@sapoa.org.za
SUMMARY:Revolutionising Commercial Property: Harnessing AI for Success
DESCRIPTION:Revolutionising Commercial Property: Harnessing AI for Success\nArtificial intelligence (AI) is rapidly transforming the commercial property sector\, offering unprecedented opportunities for efficiency\, accuracy\, and strategic advantage. From streamlining due diligence and automating lease abstraction to predictive market analysis and risk assessment\, AI is reshaping how property professionals operate and make decisions. \nAs leading industry players integrate AI into their operations\, the commercial property market is poised for a new era of innovation and growth. Lawyers and property professionals who embrace AI will be well-positioned to deliver enhanced value\, mitigate risks\, and maintain a competitive edge in an increasingly data-driven landscape. \nJoin us as we explore how harnessing AI can revolutionise commercial property and drive success in a dynamic market \n\nCosts\nMembers: R550 excluding VAT\nNon-Members: R950 excluding VAT \n\nSpeakers\n\n\n \nMuhammad Gattoo\nPractice Head & Director\nReal Estate \n\n\n \nSimone Franks\nDirector\nReal Estate \n\n\n \nSafee-Naaz Siddiqi\nSenior Associate\nKnowledge Management \n\n\n \nAsisipho Kozana\nAssociate\nReal Estate \n\n\n \nFacilitator\nMuneerah Hercules\nAssociate\nReal Estate \n\n\n\nRegister before\n15 September 2025 \n\nRegister now\n \n  \n 
URL:https://sapoa.org.za/event/revolutionising-commercial-property-harnessing-ai-for-success-2/
LOCATION:Cliffe Dekker Hofmeyr Inc\, 11 Buitengracht Street\, Cape Town\, Western Cape\, 8001\, South Africa
CATEGORIES:Western Cape
END:VEVENT
END:VCALENDAR