BEGIN:VCALENDAR
VERSION:2.0
PRODID:-//Sapoa - ECPv6.15.20//NONSGML v1.0//EN
CALSCALE:GREGORIAN
METHOD:PUBLISH
X-WR-CALNAME:Sapoa
X-ORIGINAL-URL:https://sapoa.org.za
X-WR-CALDESC:Events for Sapoa
REFRESH-INTERVAL;VALUE=DURATION:PT1H
X-Robots-Tag:noindex
X-PUBLISHED-TTL:PT1H
BEGIN:VTIMEZONE
TZID:Africa/Johannesburg
BEGIN:STANDARD
TZOFFSETFROM:+0200
TZOFFSETTO:+0200
TZNAME:SAST
DTSTART:20240101T000000
END:STANDARD
END:VTIMEZONE
BEGIN:VEVENT
DTSTART;TZID=Africa/Johannesburg:20251014T083000
DTEND;TZID=Africa/Johannesburg:20251014T103000
DTSTAMP:20260424T224043
CREATED:20250911T205701Z
LAST-MODIFIED:20250911T205935Z
UID:7093-1760430600-1760437800@sapoa.org.za
SUMMARY:Gqeberha Networking Breakfast
DESCRIPTION:The Economy and Property Are Slow Turning Ships… But Certain Underlying Fundamentals Do Give Cause for Some Cautious Optimism.\nJohn Loos\, FNB Property Economist\, will take you through his views on where we are in the property market cycle\, which is strongly related to the economic supercycle\, why he remains cautiously optimistic for prospects in the coming years\, and the risks that accompany any future views…certain of those risks\, notably US-driven tariff wars\, highly relevant to Nelson Mandela Bay’s economy and property market. \nJoin us as we delve into the property market cycle and its close ties to the global economic supercycle. \n\nCosts\nMembers: R500 excluding VAT\nNon-Members: R950 excluding VAT \n\nSpeakers\n \nJohn Loos\n(Economist\, Strategist\, Coach\, Speaker and MC) \n\nRegister Starts\n08:00 am \n\nRegister before\n10 October 2025 \n\nRegister now\n \n  \n 
URL:https://sapoa.org.za/event/gqeberha-networking-breakfast/
LOCATION:FNB Offices\, Newton Park\, 293 Cape Road\, Gqeberha\, Eastern Cape\, 6045
CATEGORIES:Eastern Cape
END:VEVENT
END:VCALENDAR