BEGIN:VCALENDAR
VERSION:2.0
PRODID:-//Sapoa - ECPv6.15.20//NONSGML v1.0//EN
CALSCALE:GREGORIAN
METHOD:PUBLISH
X-WR-CALNAME:Sapoa
X-ORIGINAL-URL:https://sapoa.org.za
X-WR-CALDESC:Events for Sapoa
REFRESH-INTERVAL;VALUE=DURATION:PT1H
X-Robots-Tag:noindex
X-PUBLISHED-TTL:PT1H
BEGIN:VTIMEZONE
TZID:Africa/Johannesburg
BEGIN:STANDARD
TZOFFSETFROM:+0200
TZOFFSETTO:+0200
TZNAME:SAST
DTSTART:20240101T000000
END:STANDARD
END:VTIMEZONE
BEGIN:VEVENT
DTSTART;TZID=Africa/Johannesburg:20251126T100000
DTEND;TZID=Africa/Johannesburg:20251126T110000
DTSTAMP:20260424T200413
CREATED:20251113T105135Z
LAST-MODIFIED:20251113T130803Z
UID:7423-1764151200-1764154800@sapoa.org.za
SUMMARY:Trends in the commercial property law latest judgments from the courts Webinar
DESCRIPTION:s \n\nRSVP\nRegistration\n 
URL:https://sapoa.org.za/event/trends-in-the-commercial-property-law-latest-judgments-from-the-courts-webinar/
CATEGORIES:Online
END:VEVENT
BEGIN:VEVENT
DTSTART;TZID=Africa/Johannesburg:20251126T173000
DTEND;TZID=Africa/Johannesburg:20251126T203000
DTSTAMP:20260424T200413
CREATED:20251016T134104Z
LAST-MODIFIED:20251016T141840Z
UID:7195-1764178200-1764189000@sapoa.org.za
SUMMARY:Gauteng Networking Function
DESCRIPTION:We are excited to invite you to the Gauteng Regional Chapter’s exclusive networking event\, where industry professionals\, thought leaders\, and innovators converge. \nThis is your chance to forge meaningful connections\, exchange transformative ideas\, and grow your professional network\, all within this engaging and dynamic platform. \n\nCosts\nMembers: R200 excluding VAT\nNon-Members: R500 excluding VAT \n\nRegister now\n\nCancellation Policy\n\nPaid delegates who do not cancel at least 24 hours in advance\, or who fail to log in for the webinar\, will not be eligible for a refund.\nDelegates who register without payment will still be held liable for the outstanding amount.
URL:https://sapoa.org.za/event/gauteng-networking-function/
LOCATION:Proud Mary\, The Bank 26 Cradock Ave Rosebank\, Johannesburg\, Gauteng\, 2196\, South Africa
CATEGORIES:Gauteng
END:VEVENT
END:VCALENDAR