BEGIN:VCALENDAR
VERSION:2.0
PRODID:-//Sapoa - ECPv6.15.20//NONSGML v1.0//EN
CALSCALE:GREGORIAN
METHOD:PUBLISH
X-ORIGINAL-URL:https://sapoa.org.za
X-WR-CALDESC:Events for Sapoa
REFRESH-INTERVAL;VALUE=DURATION:PT1H
X-Robots-Tag:noindex
X-PUBLISHED-TTL:PT1H
BEGIN:VTIMEZONE
TZID:Africa/Johannesburg
BEGIN:STANDARD
TZOFFSETFROM:+0200
TZOFFSETTO:+0200
TZNAME:SAST
DTSTART:20250101T000000
END:STANDARD
END:VTIMEZONE
BEGIN:VEVENT
DTSTART;TZID=Africa/Johannesburg:20260205T103000
DTEND;TZID=Africa/Johannesburg:20260205T110000
DTSTAMP:20260424T161259
CREATED:20251208T061733Z
LAST-MODIFIED:20260115T130632Z
UID:7622-1770287400-1770289200@sapoa.org.za
SUMMARY:Commercial Real Estate Sector Webinar - Members Only!
DESCRIPTION:RSVP\nRegister Now\n\nCancellation Policy\n\nPayment is due upon receipt of the invoice.\nCancellations will only be accepted if submitted in writing at least 3 full business days prior to the event.\nFailure to cancel within this time frame will result in liability for the full outstanding amount\, even if you do not attend.\n“No-shows” will be charged the full event fee unless cancellation has been received in accordance with the policy.
URL:https://sapoa.org.za/event/commercial-real-estate-sector-webinar/
CATEGORIES:Online
END:VEVENT
END:VCALENDAR