BEGIN:VCALENDAR
VERSION:2.0
PRODID:-//Sapoa - ECPv6.15.20//NONSGML v1.0//EN
CALSCALE:GREGORIAN
METHOD:PUBLISH
X-WR-CALNAME:Sapoa
X-ORIGINAL-URL:https://sapoa.org.za
X-WR-CALDESC:Events for Sapoa
REFRESH-INTERVAL;VALUE=DURATION:PT1H
X-Robots-Tag:noindex
X-PUBLISHED-TTL:PT1H
BEGIN:VTIMEZONE
TZID:Africa/Johannesburg
BEGIN:STANDARD
TZOFFSETFROM:+0200
TZOFFSETTO:+0200
TZNAME:SAST
DTSTART:20250101T000000
END:STANDARD
END:VTIMEZONE
BEGIN:VEVENT
DTSTART;TZID=Africa/Johannesburg:20260304T100000
DTEND;TZID=Africa/Johannesburg:20260304T110000
DTSTAMP:20260424T145608
CREATED:20251124T230608Z
LAST-MODIFIED:20260210T103713Z
UID:7453-1772618400-1772622000@sapoa.org.za
SUMMARY:Negotiations and Special Terms in Lease Agreements: Rental Collection Methods Webinar
DESCRIPTION:RSVP\nRegister Now\nRSVP Before: 23 February 2026 \n\nCancellation Policy\n\nPaid delegates who do not cancel at least 24 hours in advance\, or who fail to log in for the webinar\, will not be eligible for a refund.\nDelegates who register without payment will still be held liable for the outstanding amount.\n\n 
URL:https://sapoa.org.za/event/negotiations-and-special-terms-in-lease-agreements-rental-collection-methods-webinar/
CATEGORIES:Online
END:VEVENT
END:VCALENDAR