BEGIN:VCALENDAR
VERSION:2.0
PRODID:-//Sapoa - ECPv6.15.20//NONSGML v1.0//EN
CALSCALE:GREGORIAN
METHOD:PUBLISH
X-ORIGINAL-URL:https://sapoa.org.za
X-WR-CALDESC:Events for Sapoa
REFRESH-INTERVAL;VALUE=DURATION:PT1H
X-Robots-Tag:noindex
X-PUBLISHED-TTL:PT1H
BEGIN:VTIMEZONE
TZID:Africa/Johannesburg
BEGIN:STANDARD
TZOFFSETFROM:+0200
TZOFFSETTO:+0200
TZNAME:SAST
DTSTART:20250101T000000
END:STANDARD
END:VTIMEZONE
BEGIN:VEVENT
DTSTART;TZID=Africa/Johannesburg:20260507T113000
DTEND;TZID=Africa/Johannesburg:20260507T203000
DTSTAMP:20260424T142654
CREATED:20260410T071248Z
LAST-MODIFIED:20260424T111813Z
UID:8673-1778153400-1778185800@sapoa.org.za
SUMMARY:Western Cape Golf day
DESCRIPTION:RSVP\nRegister Now\nRSVP before: 22 April 2026 \n\nCancellation Policy\n\nPaid delegates who do not cancel at least 24 hours in advance\, or who fail to attend the event\, will not be eligible for a refund.\nDelegates who register without payment will still be held liable for the outstanding amount.
URL:https://sapoa.org.za/event/western-cape-golf-day/
CATEGORIES:Western Cape
END:VEVENT
END:VCALENDAR