BEGIN:VCALENDAR
VERSION:2.0
PRODID:-//Sapoa - ECPv6.15.20//NONSGML v1.0//EN
CALSCALE:GREGORIAN
METHOD:PUBLISH
X-WR-CALNAME:Sapoa
X-ORIGINAL-URL:https://sapoa.org.za
X-WR-CALDESC:Events for Sapoa
REFRESH-INTERVAL;VALUE=DURATION:PT1H
X-Robots-Tag:noindex
X-PUBLISHED-TTL:PT1H
BEGIN:VTIMEZONE
TZID:Africa/Johannesburg
BEGIN:STANDARD
TZOFFSETFROM:+0200
TZOFFSETTO:+0200
TZNAME:SAST
DTSTART:20250101T000000
END:STANDARD
END:VTIMEZONE
BEGIN:VEVENT
DTSTART;TZID=Africa/Johannesburg:20260602T100000
DTEND;TZID=Africa/Johannesburg:20260602T110000
DTSTAMP:20260424T154342
CREATED:20260420T121357Z
LAST-MODIFIED:20260420T122055Z
UID:8757-1780394400-1780398000@sapoa.org.za
SUMMARY:SAPOA Webinar - Turnover Rental: Opportunities\, Pitfalls and Online Sales
DESCRIPTION:Cancellation Policy\n\nPaid delegates who do not cancel at least 24 hours in advance\, or who fail to log in for the webinar\, will not be eligible for a refund.\nDelegates who register without payment will still be held liable for the outstanding amount.\n\n\nRSVP\n31 May 2026 \n 
URL:https://sapoa.org.za/event/sapoa-webinar-turnover-rental-opportunities-pitfalls-and-online-sales/
CATEGORIES:Online
END:VEVENT
END:VCALENDAR