BEGIN:VCALENDAR
VERSION:2.0
PRODID:-//Sapoa - ECPv6.15.20//NONSGML v1.0//EN
CALSCALE:GREGORIAN
METHOD:PUBLISH
X-WR-CALNAME:Sapoa
X-ORIGINAL-URL:https://sapoa.org.za
X-WR-CALDESC:Events for Sapoa
REFRESH-INTERVAL;VALUE=DURATION:PT1H
X-Robots-Tag:noindex
X-PUBLISHED-TTL:PT1H
BEGIN:VTIMEZONE
TZID:Africa/Johannesburg
BEGIN:STANDARD
TZOFFSETFROM:+0200
TZOFFSETTO:+0200
TZNAME:SAST
DTSTART:20230101T000000
END:STANDARD
END:VTIMEZONE
BEGIN:VEVENT
DTSTART;TZID=Africa/Johannesburg:20240703T173000
DTEND;TZID=Africa/Johannesburg:20240703T200000
DTSTAMP:20260425T182917
CREATED:20240625T055812Z
LAST-MODIFIED:20240625T055812Z
UID:5083-1720027800-1720036800@sapoa.org.za
SUMMARY:Gauteng Regional Chapter Networking Function
DESCRIPTION:Register now
URL:https://sapoa.org.za/event/gauteng-regional-chapter-networking-function/
CATEGORIES:Gauteng
END:VEVENT
BEGIN:VEVENT
DTSTART;TZID=Africa/Johannesburg:20240705T100000
DTEND;TZID=Africa/Johannesburg:20240705T120000
DTSTAMP:20260425T182917
CREATED:20240523T133731Z
LAST-MODIFIED:20240524T072927Z
UID:5036-1720173600-1720180800@sapoa.org.za
SUMMARY:The Property Sector Codes
DESCRIPTION:Register now
URL:https://sapoa.org.za/event/the-property-sector-codes-2/
CATEGORIES:Online
END:VEVENT
BEGIN:VEVENT
DTSTART;TZID=Africa/Johannesburg:20240710T100000
DTEND;TZID=Africa/Johannesburg:20240711T120000
DTSTAMP:20260425T182917
CREATED:20240624T174125Z
LAST-MODIFIED:20240624T174125Z
UID:5070-1720605600-1720699200@sapoa.org.za
SUMMARY:SAPOA Webinar Advert - Masters Commercial Lease Agreement 2-day series
DESCRIPTION:Register now
URL:https://sapoa.org.za/event/sapoa-webinar-advert-masters-commercial-lease-agreement-2-day-series/
CATEGORIES:Online
END:VEVENT
BEGIN:VEVENT
DTSTART;TZID=Africa/Johannesburg:20240717T100000
DTEND;TZID=Africa/Johannesburg:20240717T110000
DTSTAMP:20260425T182917
CREATED:20240624T173720Z
LAST-MODIFIED:20240624T173804Z
UID:5067-1721210400-1721214000@sapoa.org.za
SUMMARY:SAPOA WEBINAR: Theory and Practical Aspects of Commercial Rentals and Eviction
DESCRIPTION:Register now
URL:https://sapoa.org.za/event/sapoa-webinar-theory-and-practical-aspects-of-commercial-rentals-and-eviction/
CATEGORIES:Online
END:VEVENT
BEGIN:VEVENT
DTSTART;TZID=Africa/Johannesburg:20240725T100000
DTEND;TZID=Africa/Johannesburg:20240725T230000
DTSTAMP:20260425T182917
CREATED:20240628T082126Z
LAST-MODIFIED:20240628T082126Z
UID:5092-1721901600-1721948400@sapoa.org.za
SUMMARY:Lease Agreement Negotiations and Special Terms
DESCRIPTION:Register now
URL:https://sapoa.org.za/event/lease-agreement-negotiations-and-special-terms/
CATEGORIES:Online
END:VEVENT
BEGIN:VEVENT
DTSTART;TZID=Africa/Johannesburg:20240807T083000
DTEND;TZID=Africa/Johannesburg:20240807T103000
DTSTAMP:20260425T182917
CREATED:20240718T064240Z
LAST-MODIFIED:20240718T064240Z
UID:5134-1723019400-1723026600@sapoa.org.za
SUMMARY:SAPOA Western Cape Regional Chapter Breakfast Session 2024
DESCRIPTION:Register now
URL:https://sapoa.org.za/event/sapoa-western-cape-regional-chapter-breakfast-session-2024/
CATEGORIES:Western Cape
END:VEVENT
BEGIN:VEVENT
DTSTART;TZID=Africa/Johannesburg:20240814T100000
DTEND;TZID=Africa/Johannesburg:20240815T120000
DTSTAMP:20260425T182917
CREATED:20240610T143120Z
LAST-MODIFIED:20240610T143120Z
UID:5045-1723629600-1723723200@sapoa.org.za
SUMMARY:Navigating The Legal Aspects Of Property Finance
DESCRIPTION:Register now
URL:https://sapoa.org.za/event/navigating-the-legal-aspects-of-property-finance-2/
CATEGORIES:Online
END:VEVENT
BEGIN:VEVENT
DTSTART;TZID=Africa/Johannesburg:20240814T173000
DTEND;TZID=Africa/Johannesburg:20240814T200000
DTSTAMP:20260425T182917
CREATED:20240714T095202Z
LAST-MODIFIED:20240715T084756Z
UID:5115-1723656600-1723665600@sapoa.org.za
SUMMARY:Gauteng Regional Chapter Networking Function
DESCRIPTION:Register now
URL:https://sapoa.org.za/event/gauteng-regional-chapter-networking-function-2/
CATEGORIES:Gauteng
END:VEVENT
BEGIN:VEVENT
DTSTART;TZID=Africa/Johannesburg:20240815T083000
DTEND;TZID=Africa/Johannesburg:20240815T130000
DTSTAMP:20260425T182917
CREATED:20240624T174546Z
LAST-MODIFIED:20240708T054959Z
UID:5073-1723710600-1723726800@sapoa.org.za
SUMMARY:SAPOA Gqeberha Breakfast Seminar
DESCRIPTION:Register now
URL:https://sapoa.org.za/event/sapoa-gqeberha-breakfast-seminar/
END:VEVENT
BEGIN:VEVENT
DTSTART;TZID=Africa/Johannesburg:20240821T140000
DTEND;TZID=Africa/Johannesburg:20240821T160000
DTSTAMP:20260425T182917
CREATED:20240724T133127Z
LAST-MODIFIED:20240724T135451Z
UID:5177-1724248800-1724256000@sapoa.org.za
SUMMARY:Sapoa Gauteng Woman's High Tea
DESCRIPTION:Register now
URL:https://sapoa.org.za/event/gauteng-womans-high-tea/
CATEGORIES:Gauteng
END:VEVENT
BEGIN:VEVENT
DTSTART;TZID=Africa/Johannesburg:20240822T140000
DTEND;TZID=Africa/Johannesburg:20240822T163000
DTSTAMP:20260425T182917
CREATED:20240715T095232Z
LAST-MODIFIED:20240715T095652Z
UID:5120-1724335200-1724344200@sapoa.org.za
SUMMARY:Sapoa Kwazulu Natal Regional Chapter Woman's Day High Tea Function
DESCRIPTION:Register now
URL:https://sapoa.org.za/event/sapoa-kwazulu-natal-regional-chapter-womans-day-high-tea-function/
CATEGORIES:KwaZulu-Natal
END:VEVENT
BEGIN:VEVENT
DTSTART;TZID=Africa/Johannesburg:20240827T140000
DTEND;TZID=Africa/Johannesburg:20240827T160000
DTSTAMP:20260425T182917
CREATED:20240726T114422Z
LAST-MODIFIED:20240726T114552Z
UID:5183-1724767200-1724774400@sapoa.org.za
SUMMARY:Sapoa Western Cape Regional Chapter Woman's Day High Tea
DESCRIPTION:Register now
URL:https://sapoa.org.za/event/sapoa-western-cape-regional-chapter-womans-day-high-tea/
CATEGORIES:Western Cape
END:VEVENT
BEGIN:VEVENT
DTSTART;TZID=Africa/Johannesburg:20240828T100000
DTEND;TZID=Africa/Johannesburg:20240828T120000
DTSTAMP:20260425T182917
CREATED:20240624T183920Z
LAST-MODIFIED:20240722T065738Z
UID:5076-1724839200-1724846400@sapoa.org.za
SUMMARY:SAPOA WEBINAR - Asset Management:  REITs and investments Outlook
DESCRIPTION:Register now
URL:https://sapoa.org.za/event/sapoa-webinar-asset-management-reits-and-investments-outlook/
CATEGORIES:Online
END:VEVENT
BEGIN:VEVENT
DTSTART;TZID=Africa/Johannesburg:20240903T100000
DTEND;TZID=Africa/Johannesburg:20240905T140000
DTSTAMP:20260425T182917
CREATED:20231208T141733Z
LAST-MODIFIED:20240415T071352Z
UID:4370-1725357600-1725544800@sapoa.org.za
SUMMARY:Sapoa Annual Convention 2024 Save the Date
DESCRIPTION:
URL:https://sapoa.org.za/event/sapoa-annual-convention-2024-save-the-date/
END:VEVENT
BEGIN:VEVENT
DTSTART;TZID=Africa/Johannesburg:20240911T100000
DTEND;TZID=Africa/Johannesburg:20240911T110000
DTSTAMP:20260425T182917
CREATED:20240814T082607Z
LAST-MODIFIED:20240814T082607Z
UID:5217-1726048800-1726052400@sapoa.org.za
SUMMARY:Need to know: Latest judgements impacting landlords
DESCRIPTION:Register now
URL:https://sapoa.org.za/event/need-to-know-latest-judgements-impacting-landlords/
CATEGORIES:Online
END:VEVENT
BEGIN:VEVENT
DTSTART;TZID=Africa/Johannesburg:20240917T100000
DTEND;TZID=Africa/Johannesburg:20240917T230000
DTSTAMP:20260425T182917
CREATED:20240828T084937Z
LAST-MODIFIED:20240828T084937Z
UID:5230-1726567200-1726614000@sapoa.org.za
SUMMARY:Sapoa Research Webinar
DESCRIPTION:Register now
URL:https://sapoa.org.za/event/sapoa-research-webinar-3/
CATEGORIES:Online
END:VEVENT
BEGIN:VEVENT
DTSTART;TZID=Africa/Johannesburg:20240918T100000
DTEND;TZID=Africa/Johannesburg:20240918T110000
DTSTAMP:20260425T182917
CREATED:20240628T081757Z
LAST-MODIFIED:20240628T081757Z
UID:5089-1726653600-1726657200@sapoa.org.za
SUMMARY:Dealing with Defaulting Tenants
DESCRIPTION:Register now
URL:https://sapoa.org.za/event/dealing-with-defaulting-tenants/
CATEGORIES:Online
END:VEVENT
BEGIN:VEVENT
DTSTART;TZID=Africa/Johannesburg:20241015T080000
DTEND;TZID=Africa/Johannesburg:20241015T093000
DTSTAMP:20260425T182917
CREATED:20240918T113335Z
LAST-MODIFIED:20241003T165555Z
UID:5317-1728979200-1728984600@sapoa.org.za
SUMMARY:Power hour breakfast seminar : Contract law in the real estate sector for landlords and brokers
DESCRIPTION:Register now
URL:https://sapoa.org.za/event/power-hour-breakfast-seminar/
CATEGORIES:Western Cape
END:VEVENT
BEGIN:VEVENT
DTSTART;TZID=Africa/Johannesburg:20241016T100000
DTEND;TZID=Africa/Johannesburg:20241016T120000
DTSTAMP:20260425T182917
CREATED:20240730T063842Z
LAST-MODIFIED:20240730T063842Z
UID:5187-1729072800-1729080000@sapoa.org.za
SUMMARY:Effective Architectural Design Briefing
DESCRIPTION:Register now
URL:https://sapoa.org.za/event/effective-architectural-design-briefing/
CATEGORIES:Online
END:VEVENT
BEGIN:VEVENT
DTSTART;TZID=Africa/Johannesburg:20241023T100000
DTEND;TZID=Africa/Johannesburg:20241023T110000
DTSTAMP:20260425T182917
CREATED:20241007T082159Z
LAST-MODIFIED:20241007T082402Z
UID:5371-1729677600-1729681200@sapoa.org.za
SUMMARY:SAPOA Webinar - Leasing 101- Most important lease clauses  2024
DESCRIPTION:Register now
URL:https://sapoa.org.za/event/sapoa-webinar-leasing-101-most-important-lease-clauses-2024/
CATEGORIES:Online
END:VEVENT
BEGIN:VEVENT
DTSTART;TZID=Africa/Johannesburg:20241029T100000
DTEND;TZID=Africa/Johannesburg:20241029T110000
DTSTAMP:20260425T182917
CREATED:20241007T083015Z
LAST-MODIFIED:20241011T094735Z
UID:5374-1730196000-1730199600@sapoa.org.za
SUMMARY:Webinar: SAPOA SA Property Trends Report & Operating Cost Research Report
DESCRIPTION:Register now
URL:https://sapoa.org.za/event/webinar-sapoa-sa-property-trends-report-operating-cost-research-report/
CATEGORIES:Online
END:VEVENT
BEGIN:VEVENT
DTSTART;TZID=Africa/Johannesburg:20241107T120000
DTEND;TZID=Africa/Johannesburg:20241107T183000
DTSTAMP:20260425T182917
CREATED:20241001T091835Z
LAST-MODIFIED:20241008T093812Z
UID:5343-1730980800-1731004200@sapoa.org.za
SUMMARY:2024 SAPOA Western Cape Golf Day
DESCRIPTION:Register now – Single\nRegister now – 4 Ball
URL:https://sapoa.org.za/event/2024-sapoa-western-cape-golf-day/
CATEGORIES:Western Cape
END:VEVENT
BEGIN:VEVENT
DTSTART;TZID=Africa/Johannesburg:20241111T100000
DTEND;TZID=Africa/Johannesburg:20241111T120000
DTSTAMP:20260425T182917
CREATED:20241028T113155Z
LAST-MODIFIED:20241028T113155Z
UID:5500-1731319200-1731326400@sapoa.org.za
SUMMARY:SAPOA Webinar Advert - Masters Commercial Lease Agreement
DESCRIPTION:Register now
URL:https://sapoa.org.za/event/sapoa-webinar-advert-masters-commercial-lease-agreement/
CATEGORIES:Online
END:VEVENT
BEGIN:VEVENT
DTSTART;TZID=Africa/Johannesburg:20241119T100000
DTEND;TZID=Africa/Johannesburg:20241119T230000
DTSTAMP:20260425T182917
CREATED:20241021T114304Z
LAST-MODIFIED:20241021T114304Z
UID:5467-1732010400-1732057200@sapoa.org.za
SUMMARY:SAPOA Revaluation And Global Trend Report
DESCRIPTION:Register now
URL:https://sapoa.org.za/event/sapoa-revaluation-and-global-trend-report/
CATEGORIES:Port Elizabeth Events
END:VEVENT
BEGIN:VEVENT
DTSTART;TZID=Africa/Johannesburg:20241121T170000
DTEND;TZID=Africa/Johannesburg:20241121T193000
DTSTAMP:20260425T182917
CREATED:20241023T090853Z
LAST-MODIFIED:20241023T091013Z
UID:5481-1732208400-1732217400@sapoa.org.za
SUMMARY:Western Cape Networking Function
DESCRIPTION:Register now
URL:https://sapoa.org.za/event/western-cape-networking-function/
CATEGORIES:Western Cape
END:VEVENT
BEGIN:VEVENT
DTSTART;TZID=Africa/Johannesburg:20241126T173000
DTEND;TZID=Africa/Johannesburg:20241126T203000
DTSTAMP:20260425T182917
CREATED:20241101T132050Z
LAST-MODIFIED:20241114T122755Z
UID:5540-1732642200-1732653000@sapoa.org.za
SUMMARY:Gauteng Regional Chapter Networking Funtion [Postponed]
DESCRIPTION: 
URL:https://sapoa.org.za/event/gauteng-regional-chapter-networking-funtion/
CATEGORIES:Gauteng
END:VEVENT
BEGIN:VEVENT
DTSTART;TZID=Africa/Johannesburg:20241127T100000
DTEND;TZID=Africa/Johannesburg:20241127T120000
DTSTAMP:20260425T182917
CREATED:20241118T082539Z
LAST-MODIFIED:20241118T082539Z
UID:5750-1732701600-1732708800@sapoa.org.za
SUMMARY:Effective Archetectural Design Briefing
DESCRIPTION:Register now
URL:https://sapoa.org.za/event/effective-archetectural-design-briefing/
CATEGORIES:Online
END:VEVENT
BEGIN:VEVENT
DTSTART;TZID=Africa/Johannesburg:20250306T170000
DTEND;TZID=Africa/Johannesburg:20250306T203000
DTSTAMP:20260425T182917
CREATED:20250202T232506Z
LAST-MODIFIED:20250217T073601Z
UID:6115-1741280400-1741293000@sapoa.org.za
SUMMARY:Western Cape Networking Function
DESCRIPTION:SAPOA invites you to attend the Western Cape Networking Function. \n\nCosts\nMembers: R200 excluding VAT\nNon-Members: R500 excluding VAT \n\nRegistration closes\n4 March 2025 \nRegister now\n  \n\nCancellation Policy\n\nPayment is due upon receipt of the invoice.\nCancellations will only be accepted if submitted in writing at least 3 full business days prior to the event.\nFailure to cancel within this time frame will result in liability for the full outstanding amount\, even if you do not attend.\n“No-shows” will be charged the full event fee unless cancellation has been received in accordance with the policy.\n\n\nSponsor
URL:https://sapoa.org.za/event/western-cape-networking-function-2/
LOCATION:Life Grand Café\, 2 Pierhead Road\, V&A Waterfront\, Cape Town\, Western Cape\, 2001\, South Africa
CATEGORIES:Western Cape
END:VEVENT
BEGIN:VEVENT
DTSTART;TZID=Africa/Johannesburg:20250312T100000
DTEND;TZID=Africa/Johannesburg:20250312T110000
DTSTAMP:20260425T182917
CREATED:20250120T100314Z
LAST-MODIFIED:20250206T075528Z
UID:6032-1741773600-1741777200@sapoa.org.za
SUMMARY:SAPOA Research Webinar – Retail Trends Q4 2024
DESCRIPTION:In the first half of 2024\, global property investment returns rebounded significantly after 18 months of negative performance. South Africa led with a 10.1% return\, followed by Brazil\, while Ireland experienced the lowest return at -6.4%. Developed markets such as France\, Australia\, and the United States continued to face negative returns. \nJoin us for a webinar to unpack global trends\, reflecting on 2024 and looking ahead to 2025. \n\nCosts\nMembers: R250 excluding VAT\nNon-Members: R425 excluding VAT \n\n\nSpeaker\n \nEileen Andrew\nVice President at MSCI \n\nRegister now
URL:https://sapoa.org.za/event/sapoa-research-webinar-retail-trends-q4-2024/
CATEGORIES:Online
END:VEVENT
BEGIN:VEVENT
DTSTART;TZID=Africa/Johannesburg:20250317T080000
DTEND;TZID=Africa/Johannesburg:20250317T103000
DTSTAMP:20260425T182917
CREATED:20250212T065442Z
LAST-MODIFIED:20250311T063424Z
UID:6168-1742198400-1742207400@sapoa.org.za
SUMMARY:(Clossed) Lean Coffee Discussion on Property Technology
DESCRIPTION:Join industry colleagues for a structured\, agenda-less meeting to uncover experiences and concerns as they relate to property technology. The lean coffee will be facilitated by experienced technology professionals who will draw parallels between what the real estate industry is going through vs other industries they have worked in. \n  \n\nSpeakers\n \nLen de Villiers\nCurrent CTIO\nEskom\nPrevious CIO at First National Bank\, Nedbank\, ABSA Bank \n  \n \nDr Pierre le Roux\nFounder and Managing Director\nMoyo Africa Advisory Services \n\nRegister\nEvent is Full \n\nSponsors
URL:https://sapoa.org.za/event/lean-coffee-discussion-on-property-technology/
LOCATION:Moo Moo Restaurant at Mall of Africa\, Magwa Cres\, Waterval 5-Ir\, Midrand\, Gauteng\, 16860\, South Africa
CATEGORIES:Gauteng
END:VEVENT
END:VCALENDAR