BEGIN:VCALENDAR
VERSION:2.0
PRODID:-//Sapoa - ECPv6.15.20//NONSGML v1.0//EN
CALSCALE:GREGORIAN
METHOD:PUBLISH
X-ORIGINAL-URL:https://sapoa.org.za
X-WR-CALDESC:Events for Sapoa
REFRESH-INTERVAL;VALUE=DURATION:PT1H
X-Robots-Tag:noindex
X-PUBLISHED-TTL:PT1H
BEGIN:VTIMEZONE
TZID:Africa/Johannesburg
BEGIN:STANDARD
TZOFFSETFROM:+0200
TZOFFSETTO:+0200
TZNAME:SAST
DTSTART:20250101T000000
END:STANDARD
END:VTIMEZONE
BEGIN:VEVENT
DTSTART;TZID=Africa/Johannesburg:20260513T100000
DTEND;TZID=Africa/Johannesburg:20260513T110000
DTSTAMP:20260424T183006
CREATED:20260211T160448Z
LAST-MODIFIED:20260317T062413Z
UID:7839-1778666400-1778670000@sapoa.org.za
SUMMARY:SAPOA Research Webinar 2026
DESCRIPTION:RSVP\nRegister Now\nRSVP Before: 23 February 2026 \n\nCancellation Policy\n\nPaid delegates who do not cancel at least 24 hours in advance\, or who fail to log in for the webinar\, will not be eligible for a refund.\nDelegates who register without payment will still be held liable for the outstanding amount.\n\n 
URL:https://sapoa.org.za/event/sapoa-research-webinar-2026/
CATEGORIES:Mpumalanga,Online
END:VEVENT
BEGIN:VEVENT
DTSTART;TZID=Africa/Johannesburg:20260513T100000
DTEND;TZID=Africa/Johannesburg:20260513T113000
DTSTAMP:20260424T183006
CREATED:20260325T073216Z
LAST-MODIFIED:20260420T121255Z
UID:8607-1778666400-1778671800@sapoa.org.za
SUMMARY:Leasing 101-mastering the complexities of Your Commercial Lease - Understanding your lease obligations
DESCRIPTION:Cancellation Policy\n\nPaid delegates who do not cancel at least 24 hours in advance\, or who fail to log in for the webinar\, will not be eligible for a refund.\nDelegates who register without payment will still be held liable for the outstanding amount.\n\n 
URL:https://sapoa.org.za/event/leasing-101-mastering-the-complexities-of-your-commercial-lease-understanding-your-lease-obligations/
CATEGORIES:Online
END:VEVENT
BEGIN:VEVENT
DTSTART;TZID=Africa/Johannesburg:20260514T160000
DTEND;TZID=Africa/Johannesburg:20260514T203000
DTSTAMP:20260424T183006
CREATED:20260330T094839Z
LAST-MODIFIED:20260330T094839Z
UID:8649-1778774400-1778790600@sapoa.org.za
SUMMARY:SAPOA KZN Networking
DESCRIPTION:RSVP\nRegister Now\nRSVP Before: 2 June 2026 \n\nCancellation Policy\n\nPaid delegates who do not cancel at least 24 hours in advance\, or who fail to log in for the webinar\, will not be eligible for a refund.\nDelegates who register without payment will still be held liable for the outstanding amount.\n\n  \n.
URL:https://sapoa.org.za/event/sapoa-kzn-networking/
CATEGORIES:KwaZulu-Natal
END:VEVENT
BEGIN:VEVENT
DTSTART;TZID=Africa/Johannesburg:20260521T173000
DTEND;TZID=Africa/Johannesburg:20260521T200000
DTSTAMP:20260424T183006
CREATED:20260416T083410Z
LAST-MODIFIED:20260417T121630Z
UID:8727-1779384600-1779393600@sapoa.org.za
SUMMARY:SAPOA East London Networking
DESCRIPTION:RSVP\nRegister Now\nRSVP Before: 18 May 2026 \n\nCancellation Policy\n\nPaid delegates who do not cancel at least 24 hours in advance\, or who fail to log in for the webinar\, will not be eligible for a refund.\nDelegates who register without payment will still be held liable for the outstanding amount.\n\n  \n.
URL:https://sapoa.org.za/event/sapoa-east-london-networking/
CATEGORIES:Eastern Cape
END:VEVENT
BEGIN:VEVENT
DTSTART;TZID=Africa/Johannesburg:20260526T140000
DTEND;TZID=Africa/Johannesburg:20260526T170000
DTSTAMP:20260424T183006
CREATED:20260421T133823Z
LAST-MODIFIED:20260421T133851Z
UID:8772-1779804000-1779814800@sapoa.org.za
SUMMARY:SAPOA Gqeberha Annual Bowls Day 2026
DESCRIPTION:RSVP\nRegister Now\nRSVP before: 22 May 2026 \n\nCancellation Policy\n\nPaid delegates who do not cancel at least 24 hours in advance\, or who fail to attend the event\, will not be eligible for a refund.\nDelegates who register without payment will still be held liable for the outstanding amount.
URL:https://sapoa.org.za/event/sapoa-gqeberha-annual-bowls-day-2026/
CATEGORIES:Eastern Cape
END:VEVENT
BEGIN:VEVENT
DTSTART;TZID=Africa/Johannesburg:20260526T170000
DTEND;TZID=Africa/Johannesburg:20260526T200000
DTSTAMP:20260424T183006
CREATED:20260323T104510Z
LAST-MODIFIED:20260323T105012Z
UID:8569-1779814800-1779825600@sapoa.org.za
SUMMARY:SAPOA AI Masterclass Webinar
DESCRIPTION:RSVP\nRegister Now\nView Program\n\nCancellation Policy\n\nPaid delegates who do not cancel at least 24 hours in advance\, or who fail to log in for the webinar\, will not be eligible for a refund.\nDelegates who register without payment will still be held liable for the outstanding amount.\n\n 
URL:https://sapoa.org.za/event/sapoa-ai-masterclass-webinar/
CATEGORIES:Online
END:VEVENT
BEGIN:VEVENT
DTSTART;TZID=Africa/Johannesburg:20260602T100000
DTEND;TZID=Africa/Johannesburg:20260602T110000
DTSTAMP:20260424T183006
CREATED:20260420T121357Z
LAST-MODIFIED:20260420T122055Z
UID:8757-1780394400-1780398000@sapoa.org.za
SUMMARY:SAPOA Webinar - Turnover Rental: Opportunities\, Pitfalls and Online Sales
DESCRIPTION:Cancellation Policy\n\nPaid delegates who do not cancel at least 24 hours in advance\, or who fail to log in for the webinar\, will not be eligible for a refund.\nDelegates who register without payment will still be held liable for the outstanding amount.\n\n\nRSVP\n31 May 2026 \n 
URL:https://sapoa.org.za/event/sapoa-webinar-turnover-rental-opportunities-pitfalls-and-online-sales/
CATEGORIES:Online
END:VEVENT
BEGIN:VEVENT
DTSTART;TZID=Africa/Johannesburg:20260604T100000
DTEND;TZID=Africa/Johannesburg:20260604T110000
DTSTAMP:20260424T183006
CREATED:20260305T073403Z
LAST-MODIFIED:20260317T062425Z
UID:8173-1780567200-1780570800@sapoa.org.za
SUMMARY:SAPOA RESEARCH WEBINAR: Retail Trends – Q1
DESCRIPTION:RSVP\nRegister Now\nRSVP Before: 1 June 2026 \n\nCancellation Policy\n\nPaid delegates who do not cancel at least 24 hours in advance\, or who fail to log in for the webinar\, will not be eligible for a refund.\nDelegates who register without payment will still be held liable for the outstanding amount.\n\n 
URL:https://sapoa.org.za/event/sapoa-research-webinar-retail-trends-q1/
CATEGORIES:Online
END:VEVENT
BEGIN:VEVENT
DTSTART;TZID=Africa/Johannesburg:20260604T100000
DTEND;TZID=Africa/Johannesburg:20260604T110000
DTSTAMP:20260424T183006
CREATED:20260330T093122Z
LAST-MODIFIED:20260330T094425Z
UID:8646-1780567200-1780570800@sapoa.org.za
SUMMARY:Education Webinar: the Involvement of the Credit Controller and Evictions
DESCRIPTION:RSVP\nRegister Now\nRSVP Before: 2 June 2026 \n\nCancellation Policy\n\nPaid delegates who do not cancel at least 24 hours in advance\, or who fail to log in for the webinar\, will not be eligible for a refund.\nDelegates who register without payment will still be held liable for the outstanding amount.\n\n 
URL:https://sapoa.org.za/event/education-webinar-the-involvement-of-the-credit-controller-and-evictions/
CATEGORIES:Online
END:VEVENT
BEGIN:VEVENT
DTSTART;TZID=Africa/Johannesburg:20260623T100000
DTEND;TZID=Africa/Johannesburg:20260623T120000
DTSTAMP:20260424T183006
CREATED:20260424T102742Z
LAST-MODIFIED:20260424T140407Z
UID:8784-1782208800-1782216000@sapoa.org.za
SUMMARY:SAPOA Edu Webinar: The Property Development & Urban Design
DESCRIPTION:RSVP\nRegister Now\nRSVP Before: 18 June 2026 \n\nCancellation Policy\n\nPaid delegates who do not cancel at least 24 hours in advance\, or who fail to log in for the webinar\, will not be eligible for a refund.\nDelegates who register without payment will still be held liable for the outstanding amount.\n\n 
URL:https://sapoa.org.za/event/sapoa-edu-webinar-the-property-development-urban-design/
CATEGORIES:Online
END:VEVENT
END:VCALENDAR