BEGIN:VCALENDAR
VERSION:2.0
PRODID:-//Sapoa - ECPv6.15.20//NONSGML v1.0//EN
CALSCALE:GREGORIAN
METHOD:PUBLISH
X-WR-CALNAME:Sapoa
X-ORIGINAL-URL:https://sapoa.org.za
X-WR-CALDESC:Events for Sapoa
REFRESH-INTERVAL;VALUE=DURATION:PT1H
X-Robots-Tag:noindex
X-PUBLISHED-TTL:PT1H
BEGIN:VTIMEZONE
TZID:Africa/Johannesburg
BEGIN:STANDARD
TZOFFSETFROM:+0200
TZOFFSETTO:+0200
TZNAME:SAST
DTSTART:20230101T000000
END:STANDARD
END:VTIMEZONE
BEGIN:VEVENT
DTSTART;TZID=Africa/Johannesburg:20240229T100000
DTEND;TZID=Africa/Johannesburg:20240229T110000
DTSTAMP:20260425T154452
CREATED:20240119T130933Z
LAST-MODIFIED:20240119T130933Z
UID:4434-1709200800-1709204400@sapoa.org.za
SUMMARY:Eviction and the involvement of the Credit Controller
DESCRIPTION:Register now
URL:https://sapoa.org.za/event/eviction-and-the-involvement-of-the-credit-controller/
CATEGORIES:Online
END:VEVENT
BEGIN:VEVENT
DTSTART;TZID=Africa/Johannesburg:20240222T090000
DTEND;TZID=Africa/Johannesburg:20240222T110000
DTSTAMP:20260425T154452
CREATED:20240206T065354Z
LAST-MODIFIED:20240206T075324Z
UID:4452-1708592400-1708599600@sapoa.org.za
SUMMARY:SAPOA Gauteng - Post Budget Breakfast 2024
DESCRIPTION:Register now
URL:https://sapoa.org.za/event/sapoa-gauteng-post-budget-breakfast-2024/
CATEGORIES:Gauteng
END:VEVENT
BEGIN:VEVENT
DTSTART;TZID=Africa/Johannesburg:20240222T073000
DTEND;TZID=Africa/Johannesburg:20240222T100000
DTSTAMP:20260425T154452
CREATED:20240206T065606Z
LAST-MODIFIED:20240206T065804Z
UID:4455-1708587000-1708596000@sapoa.org.za
SUMMARY:SAPOA Western Cape - Post Budget Breakfast 2024
DESCRIPTION:Register now
URL:https://sapoa.org.za/event/sapoa-western-cape-post-budget-breakfast-2024/
CATEGORIES:Western Cape
END:VEVENT
END:VCALENDAR