BEGIN:VCALENDAR
VERSION:2.0
PRODID:-//Sapoa - ECPv6.15.20//NONSGML v1.0//EN
CALSCALE:GREGORIAN
METHOD:PUBLISH
X-WR-CALNAME:Sapoa
X-ORIGINAL-URL:https://sapoa.org.za
X-WR-CALDESC:Events for Sapoa
REFRESH-INTERVAL;VALUE=DURATION:PT1H
X-Robots-Tag:noindex
X-PUBLISHED-TTL:PT1H
BEGIN:VTIMEZONE
TZID:Africa/Johannesburg
BEGIN:STANDARD
TZOFFSETFROM:+0200
TZOFFSETTO:+0200
TZNAME:SAST
DTSTART:20230101T000000
END:STANDARD
END:VTIMEZONE
BEGIN:VEVENT
DTSTART;TZID=Africa/Johannesburg:20240222T073000
DTEND;TZID=Africa/Johannesburg:20240222T100000
DTSTAMP:20260425T141949
CREATED:20240206T065606Z
LAST-MODIFIED:20240206T065804Z
UID:4455-1708587000-1708596000@sapoa.org.za
SUMMARY:SAPOA Western Cape - Post Budget Breakfast 2024
DESCRIPTION:Register now
URL:https://sapoa.org.za/event/sapoa-western-cape-post-budget-breakfast-2024/
CATEGORIES:Western Cape
END:VEVENT
END:VCALENDAR