BEGIN:VCALENDAR
VERSION:2.0
PRODID:-//Sapoa - ECPv6.15.20//NONSGML v1.0//EN
CALSCALE:GREGORIAN
METHOD:PUBLISH
X-ORIGINAL-URL:https://sapoa.org.za
X-WR-CALDESC:Events for Sapoa
REFRESH-INTERVAL;VALUE=DURATION:PT1H
X-Robots-Tag:noindex
X-PUBLISHED-TTL:PT1H
BEGIN:VTIMEZONE
TZID:Africa/Johannesburg
BEGIN:STANDARD
TZOFFSETFROM:+0200
TZOFFSETTO:+0200
TZNAME:SAST
DTSTART:20230101T000000
END:STANDARD
END:VTIMEZONE
BEGIN:VEVENT
DTSTART;TZID=Africa/Johannesburg:20240320T100000
DTEND;TZID=Africa/Johannesburg:20240320T110000
DTSTAMP:20260426T025155
CREATED:20240227T063643Z
LAST-MODIFIED:20240227T063643Z
UID:4484-1710928800-1710932400@sapoa.org.za
SUMMARY:SAPOA Research Webinar - Retail Trends
DESCRIPTION:Register now
URL:https://sapoa.org.za/event/sapoa-research-webinar-retail-trends/
END:VEVENT
BEGIN:VEVENT
DTSTART;TZID=Africa/Johannesburg:20240327T100000
DTEND;TZID=Africa/Johannesburg:20240327T120000
DTSTAMP:20260426T025155
CREATED:20240307T062518Z
LAST-MODIFIED:20240311T125010Z
UID:4521-1711533600-1711540800@sapoa.org.za
SUMMARY:The Development Planning and Urban Design
DESCRIPTION:Register now
URL:https://sapoa.org.za/event/the-development-planning-and-urban-design/
CATEGORIES:Online
END:VEVENT
END:VCALENDAR