BEGIN:VCALENDAR
VERSION:2.0
PRODID:-//Sapoa - ECPv6.15.20//NONSGML v1.0//EN
CALSCALE:GREGORIAN
METHOD:PUBLISH
X-WR-CALNAME:Sapoa
X-ORIGINAL-URL:https://sapoa.org.za
X-WR-CALDESC:Events for Sapoa
REFRESH-INTERVAL;VALUE=DURATION:PT1H
X-Robots-Tag:noindex
X-PUBLISHED-TTL:PT1H
BEGIN:VTIMEZONE
TZID:Africa/Johannesburg
BEGIN:STANDARD
TZOFFSETFROM:+0200
TZOFFSETTO:+0200
TZNAME:SAST
DTSTART:20230101T000000
END:STANDARD
END:VTIMEZONE
BEGIN:VEVENT
DTSTART;TZID=Africa/Johannesburg:20240410T100000
DTEND;TZID=Africa/Johannesburg:20240410T110000
DTSTAMP:20260425T230232
CREATED:20240307T062058Z
LAST-MODIFIED:20240307T062157Z
UID:4516-1712743200-1712746800@sapoa.org.za
SUMMARY:Counterfeiting and the Impact on Landlords
DESCRIPTION:Register now
URL:https://sapoa.org.za/event/counterfeiting-and-the-impact-on-landlords/
CATEGORIES:Online
END:VEVENT
BEGIN:VEVENT
DTSTART;TZID=Africa/Johannesburg:20240424T110000
DTEND;TZID=Africa/Johannesburg:20240424T120000
DTSTAMP:20260425T230232
CREATED:20240415T074045Z
LAST-MODIFIED:20240415T074045Z
UID:4589-1713956400-1713960000@sapoa.org.za
SUMMARY:The Sapoa Mpumalanga Regional Chapter  Networking Presentation
DESCRIPTION:Register now
URL:https://sapoa.org.za/event/the-sapoa-mpumalanga-regional-chapter-networking-presentation/
CATEGORIES:Mpumalanga
END:VEVENT
BEGIN:VEVENT
DTSTART;TZID=Africa/Johannesburg:20240425T100000
DTEND;TZID=Africa/Johannesburg:20240425T110000
DTSTAMP:20260425T230232
CREATED:20240403T120832Z
LAST-MODIFIED:20240403T120832Z
UID:4563-1714039200-1714042800@sapoa.org.za
SUMMARY:The utility disconnection in commercial property
DESCRIPTION:Register now
URL:https://sapoa.org.za/event/the-utility-disconnection-in-commercial-property/
CATEGORIES:Online
END:VEVENT
END:VCALENDAR