BEGIN:VCALENDAR
VERSION:2.0
PRODID:-//Sapoa - ECPv6.15.20//NONSGML v1.0//EN
CALSCALE:GREGORIAN
METHOD:PUBLISH
X-ORIGINAL-URL:https://sapoa.org.za
X-WR-CALDESC:Events for Sapoa
REFRESH-INTERVAL;VALUE=DURATION:PT1H
X-Robots-Tag:noindex
X-PUBLISHED-TTL:PT1H
BEGIN:VTIMEZONE
TZID:Africa/Johannesburg
BEGIN:STANDARD
TZOFFSETFROM:+0200
TZOFFSETTO:+0200
TZNAME:SAST
DTSTART:20230101T000000
END:STANDARD
END:VTIMEZONE
BEGIN:VEVENT
DTSTART;TZID=Africa/Johannesburg:20240508T100000
DTEND;TZID=Africa/Johannesburg:20240508T120000
DTSTAMP:20260425T193359
CREATED:20240403T115832Z
LAST-MODIFIED:20240403T150156Z
UID:4558-1715162400-1715169600@sapoa.org.za
SUMMARY:The method for measuring floor arears in buildings
DESCRIPTION:Register now
URL:https://sapoa.org.za/event/the-method-for-measuring-floor-arears-in-buildings/
CATEGORIES:Online
END:VEVENT
BEGIN:VEVENT
DTSTART;TZID=Africa/Johannesburg:20240515T100000
DTEND;TZID=Africa/Johannesburg:20240515T110000
DTSTAMP:20260425T193359
CREATED:20240411T093807Z
LAST-MODIFIED:20240411T093845Z
UID:4581-1715767200-1715770800@sapoa.org.za
SUMMARY:Sapoa Research Webinar
DESCRIPTION:Register now
URL:https://sapoa.org.za/event/sapoa-research-webinar/
CATEGORIES:Online
END:VEVENT
BEGIN:VEVENT
DTSTART;TZID=Africa/Johannesburg:20240522T100000
DTEND;TZID=Africa/Johannesburg:20240522T120000
DTSTAMP:20260425T193359
CREATED:20240424T075859Z
LAST-MODIFIED:20240424T075859Z
UID:4957-1716372000-1716379200@sapoa.org.za
SUMMARY:The Property Sector Codes
DESCRIPTION:Register now
URL:https://sapoa.org.za/event/the-property-sector-codes/
CATEGORIES:Online
END:VEVENT
BEGIN:VEVENT
DTSTART;TZID=Africa/Johannesburg:20240527T100000
DTEND;TZID=Africa/Johannesburg:20240528T120000
DTSTAMP:20260425T193359
CREATED:20240506T114933Z
LAST-MODIFIED:20240506T114933Z
UID:5007-1716804000-1716897600@sapoa.org.za
SUMMARY:Navigating the Legal Aspects of Property Finance
DESCRIPTION:Register now
URL:https://sapoa.org.za/event/navigating-the-legal-aspects-of-property-finance/
END:VEVENT
END:VCALENDAR