BEGIN:VCALENDAR
VERSION:2.0
PRODID:-//Sapoa - ECPv6.15.20//NONSGML v1.0//EN
CALSCALE:GREGORIAN
METHOD:PUBLISH
X-ORIGINAL-URL:https://sapoa.org.za
X-WR-CALDESC:Events for Sapoa
REFRESH-INTERVAL;VALUE=DURATION:PT1H
X-Robots-Tag:noindex
X-PUBLISHED-TTL:PT1H
BEGIN:VTIMEZONE
TZID:Africa/Johannesburg
BEGIN:STANDARD
TZOFFSETFROM:+0200
TZOFFSETTO:+0200
TZNAME:SAST
DTSTART:20230101T000000
END:STANDARD
END:VTIMEZONE
BEGIN:VEVENT
DTSTART;TZID=Africa/Johannesburg:20240606T083000
DTEND;TZID=Africa/Johannesburg:20240606T103000
DTSTAMP:20260425T182923
CREATED:20240508T134155Z
LAST-MODIFIED:20240520T134707Z
UID:5010-1717662600-1717669800@sapoa.org.za
SUMMARY:KwaZulu-Natal Regional Chapter Networking 2024
DESCRIPTION:Register now
URL:https://sapoa.org.za/event/kwazulu-natal-regional-chapter-networking-2024/
CATEGORIES:KwaZulu-Natal
END:VEVENT
BEGIN:VEVENT
DTSTART;TZID=Africa/Johannesburg:20240626T100000
DTEND;TZID=Africa/Johannesburg:20240626T110000
DTSTAMP:20260425T182923
CREATED:20240611T212931Z
LAST-MODIFIED:20240621T093604Z
UID:5049-1719396000-1719399600@sapoa.org.za
SUMMARY:Sapoa Research Webinar
DESCRIPTION:Register now
URL:https://sapoa.org.za/event/sapoa-research-webinar-2/
CATEGORIES:Online
END:VEVENT
END:VCALENDAR