BEGIN:VCALENDAR
VERSION:2.0
PRODID:-//Sapoa - ECPv6.15.20//NONSGML v1.0//EN
CALSCALE:GREGORIAN
METHOD:PUBLISH
X-ORIGINAL-URL:https://sapoa.org.za
X-WR-CALDESC:Events for Sapoa
REFRESH-INTERVAL;VALUE=DURATION:PT1H
X-Robots-Tag:noindex
X-PUBLISHED-TTL:PT1H
BEGIN:VTIMEZONE
TZID:Africa/Johannesburg
BEGIN:STANDARD
TZOFFSETFROM:+0200
TZOFFSETTO:+0200
TZNAME:SAST
DTSTART:20240101T000000
END:STANDARD
END:VTIMEZONE
BEGIN:VEVENT
DTSTART;TZID=Africa/Johannesburg:20250402T100000
DTEND;TZID=Africa/Johannesburg:20250402T110000
DTSTAMP:20260425T051504
CREATED:20250202T214637Z
LAST-MODIFIED:20250206T075453Z
UID:6090-1743588000-1743591600@sapoa.org.za
SUMMARY:Leasing 101: Important lease clauses and the reason for their importance Webinar
DESCRIPTION:Leasing 101: Key Lease Clauses and Why it is Relevant?\nJoin us for this informative webinar which will address: \n\nReciprocity of obligations\nPayment & allocation of payments\nNon-variation & non-waiver\nDispute resolution clauses\n\n\nCosts\nMembers: R550 excluding VAT\nNon-Members: R1100 excluding VAT \n\nSpeaker\n \nBen Groot\nDirector – GVS \n\nRegister now
URL:https://sapoa.org.za/event/leasing-101-important-lease-clauses-and-the-reason-for-their-importance-webinar/
CATEGORIES:Online
END:VEVENT
BEGIN:VEVENT
DTSTART;TZID=Africa/Johannesburg:20250424T100000
DTEND;TZID=Africa/Johannesburg:20250424T110000
DTSTAMP:20260425T051504
CREATED:20250217T054740Z
LAST-MODIFIED:20250407T141756Z
UID:6187-1745488800-1745492400@sapoa.org.za
SUMMARY:The Legal Utility Disconnections - Do's and Don'ts
DESCRIPTION:Understanding the legal complexities surrounding utility disconnections is crucial for both consumers and service providers. \nThis session will help you navigate your rights and responsibilities\, avoid common mistakes\, and ensure compliance with relevant regulations to prevent unnecessary penalties or service interruptions. \n\nLegal utility disconnection court orders\nInterdict preventing illegal reconnection\nDisconnecting utility supply\nLock out\nMandament van spolie – this is all about possession and not a right\nMitigation of damages\nConsidering all potential remedies\nClaiming future damages without re-approaching the court\n\n\nCosts\nMembers: R550 excluding VAT\nNon-Members: R1100 excluding VAT \n\nSpeaker\n \nCilna Steyn\nManaging Director\nSSLR Inc \n\nRegister now\n 
URL:https://sapoa.org.za/event/the-legal-utility-disconnections-dos-and-donts/
CATEGORIES:Online
END:VEVENT
BEGIN:VEVENT
DTSTART;TZID=Africa/Johannesburg:20250430T100000
DTEND;TZID=Africa/Johannesburg:20250430T110000
DTSTAMP:20260425T051504
CREATED:20250213T102551Z
LAST-MODIFIED:20250217T144405Z
UID:6180-1746007200-1746010800@sapoa.org.za
SUMMARY:SA Headline Report\, Operating costs and Industrial report for 2024
DESCRIPTION:SA Headline Report\, Operating Costs and Industrial Report for 2024 The MSCI Real Estate shows stable performance in South African commercial property returns for the first half of 2024. Based on data from 1\,837 properties across 23 portfolios\, it represents 56% of professionally managed investment property in South Africa\, with a total capital value of R378.9 billion. The Index highlights the strong performance and investment potential of South African commercial properties. Despite high operating costs\, the market’s stability and growth prospects make it an attractive destination for investors. \nWe invite you to join our upcoming webinar\, where we will unpack the full year results for 2024 in detail. Don’t miss this opportunity to gain deeper insights into the South African commercial property market and its prospects. \n  \n\nSpeaker\n \nEileen Andrew\nVice President at MSCI \n\nRSVP before\n28 April 2025 \n\nCosts\nMembers: R250 excluding VAT\nNon-Members: R425 excluding VAT \n\nCancellation Policy\n\nPaid delegates who do not cancel at least 24 hours in advance\, or who fail to log in for the webinar\, will not be eligible for a refund.\nDelegates who register without payment will still be held liable for the outstanding amount.\n\n\nRegister now
URL:https://sapoa.org.za/event/sa-headline-report-operating-costs-and-industrial-report-for-2024/
CATEGORIES:Online
END:VEVENT
END:VCALENDAR