BEGIN:VCALENDAR
VERSION:2.0
PRODID:-//Sapoa - ECPv6.15.20//NONSGML v1.0//EN
CALSCALE:GREGORIAN
METHOD:PUBLISH
X-ORIGINAL-URL:https://sapoa.org.za
X-WR-CALDESC:Events for Sapoa
REFRESH-INTERVAL;VALUE=DURATION:PT1H
X-Robots-Tag:noindex
X-PUBLISHED-TTL:PT1H
BEGIN:VTIMEZONE
TZID:Africa/Johannesburg
BEGIN:STANDARD
TZOFFSETFROM:+0200
TZOFFSETTO:+0200
TZNAME:SAST
DTSTART:20240101T000000
END:STANDARD
END:VTIMEZONE
BEGIN:VEVENT
DTSTART;TZID=Africa/Johannesburg:20250506T100000
DTEND;TZID=Africa/Johannesburg:20250506T113000
DTSTAMP:20260425T034500
CREATED:20250320T161716Z
LAST-MODIFIED:20250403T085414Z
UID:6349-1746525600-1746531000@sapoa.org.za
SUMMARY:What the Future?! To Thrive in an AI World
DESCRIPTION:We are undergoing the greatest transformation in the history of humankind\, nothing less than a revolution in the way that we live and work. \nThe best way to predict the future is to lead it!\nMore than a presentation\, get ready for an experience. \nNot only will you be inspired by the incredible impact of AI on work\, but you will also discover how to: \n\nUse AI to boost innovation and growth.\nCreate a culture of continual learning that fosters agility.\nDevelop a purpose driven team that embraces change.\nBuild a personal brand that sets you above a machine.\nCapitalize on the human advantage\, relationship building.\nKeep motivated and protect your mental health through exponential\n\n\nCosts\nMembers: R1100 excluding VAT\nNon-Members: R3300 excluding VAT \n\nSpeaker\n \nDr Justin Cohen\nGlobal Speaker | Bestselling Author\nView Bio \n\nRegister now\n 
URL:https://sapoa.org.za/event/what-the-future-to-thrive-in-an-ai-world/
CATEGORIES:Online
END:VEVENT
BEGIN:VEVENT
DTSTART;TZID=Africa/Johannesburg:20250515T090000
DTEND;TZID=Africa/Johannesburg:20250515T110000
DTSTAMP:20260425T034500
CREATED:20250411T105544Z
LAST-MODIFIED:20250414T094932Z
UID:6450-1747299600-1747306800@sapoa.org.za
SUMMARY:PROCSA Professional Services Agreements Webinar
DESCRIPTION:Register now\n  \n 
URL:https://sapoa.org.za/event/procsa-professional-services-agreements-webinar/
CATEGORIES:Online
END:VEVENT
BEGIN:VEVENT
DTSTART;TZID=Africa/Johannesburg:20250515T173000
DTEND;TZID=Africa/Johannesburg:20250515T203000
DTSTAMP:20260425T034500
CREATED:20250408T113418Z
LAST-MODIFIED:20250408T113418Z
UID:6442-1747330200-1747341000@sapoa.org.za
SUMMARY:Cheese and Wine Networking Function
DESCRIPTION:SAPOA invites you to attend the Cheese and Wine Networking Function.\n\nCosts\nMembers: R200 excluding VAT\nNon-Members: R500 excluding VAT \n\nVenue\nThe Taste Room\n145 Main Rd\, Walmer\nGqeberha\, 6070 \n\nCancellation Policy\n\nPayment is due upon receipt of the invoice.\nCancellations will only be accepted if submitted in writing at least 3 full business days prior to the event.\nFailure to cancel within this time frame will result in liability for the full outstanding amount\, even if you do not attend.\n“No-shows” will be charged the full event fee unless cancellation has been received in accordance with the policy.\n\n\nRegister now\n  \n 
URL:https://sapoa.org.za/event/cheese-and-wine-networking-function/
CATEGORIES:Port Elizabeth Events
END:VEVENT
BEGIN:VEVENT
DTSTART;TZID=Africa/Johannesburg:20250521T100000
DTEND;TZID=Africa/Johannesburg:20250523T120000
DTSTAMP:20260425T034500
CREATED:20250225T115849Z
LAST-MODIFIED:20250403T085429Z
UID:6252-1747821600-1748001600@sapoa.org.za
SUMMARY:Mastering Commercial Lease Agreements 3-Day Series Webinar
DESCRIPTION:This webinar offers insights into commercial leasing and provides a comprehensive understanding of the legal aspects\, negotiation strategies\, and best practices relating to commercial lease agreements. \nThrough engaging lectures and real-world examples\, you will gain valuable insights which will empower you with expertise needed to effectively craft and manage commercial lease agreements. \nSynopsis: \n\nIntroduction to Commercial Leasing\nTypes of Commercial Lease Agreements and Related Documentation\nLegal Framework of Commercial Leasing\nEssential Lease Terms and Provisions\nLease Drafting\, Negotiation and Strategy\nLease Compliance and Due Diligence\nLease Enforcement and Dispute Resolution\nTenant Rights and Obligations\nLease Renewals\, Extensions\, and Termination\nEmerging Trends in Commercial Leasing\n\nWho will benefit from this webinar? \nThis webinar is aimed at facilities managers\, property developers\, investors and entrepreneurs and commercial tenants who are involved in different aspects of commercial leasing and would like to gain a deeper understanding of this subject matter. \n  \nDelegates will receive a certificate of attendance at the end of completion.\n  \n\nCosts\nMembers: R3300 excluding VAT\nNon-Members: R6600 excluding VAT \n\nCancellation Policy\n\nPaid delegates who do not cancel at least 24 hours in advance\, or who fail to log in for the webinar\, will not be eligible for a refund.\nDelegates who register without payment will still be held liable for the outstanding amount.\n\n\n\nSpeaker\n \nRorisang Mzozoyana\nSenior Legal Counsel\nProperty Finance \n\nRegister now\n 
URL:https://sapoa.org.za/event/mastering-commercial-lease-agreements-3-day-series-webinar/
CATEGORIES:Online
END:VEVENT
END:VCALENDAR