BEGIN:VCALENDAR
VERSION:2.0
PRODID:-//Sapoa - ECPv6.15.20//NONSGML v1.0//EN
CALSCALE:GREGORIAN
METHOD:PUBLISH
X-ORIGINAL-URL:https://sapoa.org.za
X-WR-CALDESC:Events for Sapoa
REFRESH-INTERVAL;VALUE=DURATION:PT1H
X-Robots-Tag:noindex
X-PUBLISHED-TTL:PT1H
BEGIN:VTIMEZONE
TZID:Africa/Johannesburg
BEGIN:STANDARD
TZOFFSETFROM:+0200
TZOFFSETTO:+0200
TZNAME:SAST
DTSTART:20240101T000000
END:STANDARD
END:VTIMEZONE
BEGIN:VEVENT
DTSTART;TZID=Africa/Johannesburg:20250804T140000
DTEND;TZID=Africa/Johannesburg:20250804T163000
DTSTAMP:20260424T234634
CREATED:20250704T163112Z
LAST-MODIFIED:20250708T083842Z
UID:6736-1754316000-1754325000@sapoa.org.za
SUMMARY:SAPOA Women's High Tea - Western Cape
DESCRIPTION:SAPOA invites you to attend the Women’s High Tea – Western Cape. \n\n\nCosts\nMembers: R 695 excluding VAT\nNon-Members: R1 200 excluding VAT \n\nRegister now\n 
URL:https://sapoa.org.za/event/sapoa-womens-high-tea/
LOCATION:Radisson Collection Hotel\, Waterfront Cape Town\, 100 Beach Road\, Granger Bay Blvd\, Mouille Point\, Cape Town\, Western Cape\, 8002
CATEGORIES:Western Cape
END:VEVENT
BEGIN:VEVENT
DTSTART;TZID=Africa/Johannesburg:20250813T100000
DTEND;TZID=Africa/Johannesburg:20250813T120000
DTSTAMP:20260424T234634
CREATED:20250703T150044Z
LAST-MODIFIED:20250716T065225Z
UID:6732-1755079200-1755086400@sapoa.org.za
SUMMARY:SAPOA Asset Management: REITs and Investment Outlook - Webinar
DESCRIPTION:Introduction to REITs: Overview of REIT structure\, operational model\, and the regulatory framework shaping listed property funds.\nSA Property Fundamentals: Analysis of rental trends\, vacancies\, and valuations across key sectors—retail\, office\, and industrial.\nCapital Market & Risk Assessment: Examination of SA’s funding environment and sector-specific risks including interest rates\, infrastructure\, and political challenges.\nGlobal Property Market Outlook: Insights into global listed property performance\, capital flows\, and opportunities in developed and emerging markets.\nInvestor Guidance: Providing a data-driven outlook to support informed portfolio positioning and real estate investment decisions.\n\n\n\nCosts\nMembers: R2 200 excluding VAT\nNon-Members: R5 500 excluding VAT \n\nSpeakers\n \nNesi Chetty\nFund Manager and Head of Property\nStanlib \n\nRegister now\n\nCancellation Policy\n\nPaid delegates who do not cancel at least 24 hours in advance\, or who fail to log in for the webinar\, will not be eligible for a refund.\nDelegates who register without payment will still be held liable for the outstanding amount.\n\n 
URL:https://sapoa.org.za/event/sapoa-asset-management-reits-and-investment-outlook-webinar/
CATEGORIES:Online
END:VEVENT
BEGIN:VEVENT
DTSTART;TZID=Africa/Johannesburg:20250820T140000
DTEND;TZID=Africa/Johannesburg:20250820T163000
DTSTAMP:20260424T234634
CREATED:20250708T221720Z
LAST-MODIFIED:20250805T210830Z
UID:6762-1755698400-1755707400@sapoa.org.za
SUMMARY:SAPOA Women’s High Tea – Gauteng [Maximum capacity reached]
DESCRIPTION:SAPOA invites you to attend the Women’s High Tea – Gauteng \n\n\nCosts\nMembers: R 695 excluding VAT\nNon-Members: R1 200 excluding VAT \n\nRegister now\n 
URL:https://sapoa.org.za/event/sapoa-womens-high-tea-guateng/
LOCATION:The Capital on Park\, 101 Katherine St\, Sandown\, Sandron\, Gauteng\, 2031\, South Africa
CATEGORIES:Gauteng
END:VEVENT
BEGIN:VEVENT
DTSTART;TZID=Africa/Johannesburg:20250820T173000
DTEND;TZID=Africa/Johannesburg:20250820T203000
DTSTAMP:20260424T234634
CREATED:20250716T072215Z
LAST-MODIFIED:20250716T072215Z
UID:6804-1755711000-1755721800@sapoa.org.za
SUMMARY:KZN Networking Function
DESCRIPTION:We are excited to invite you to the KZN Regional Chapter’s exclusive networking event\, where industry professionals\, thought leaders\, and innovators converge. \nThis is your chance to forge meaningful connections\, exchange transformative ideas\, and grow your professional network\, all within this engaging and dynamic platform. \n\n\nCosts\nMembers: R200 excluding VAT\nNon-Members: R500 excluding VAT \nLight finger snacks and drinks will be provided. \n\nRegister now\n\nCancellation Policy\n\nPaid delegates who do not cancel at least 24 hours in advance\, or who fail to log in for the webinar\, will not be eligible for a refund.\nDelegates who register without payment will still be held liable for the outstanding amount.\n\n 
URL:https://sapoa.org.za/event/kzn-networking-function/
LOCATION:The Prodigal Son\, 1 Ncondo Pl\, Umhlanga Ridge\, uMhlanga\, KwaZulu-Natal\, South Africa
CATEGORIES:KwaZulu-Natal
END:VEVENT
BEGIN:VEVENT
DTSTART;TZID=Africa/Johannesburg:20250821T100000
DTEND;TZID=Africa/Johannesburg:20250821T120000
DTSTAMP:20260424T234634
CREATED:20250613T074633Z
LAST-MODIFIED:20250724T235239Z
UID:6642-1755770400-1755777600@sapoa.org.za
SUMMARY:Method For Measuring Floor Areas in Buildings
DESCRIPTION:The Method For Measuring Floor Areas in Buildings (MOMFA)\n\nWe invite you to a session focused on the various methods used to measure floor areas across offices\, retail\, commercial\, and industrial sectors. This session will cover: \n\nKey techniques for accurate floor area measurement\nIndustry standards and best practices\nHow these measurements impact revenue and calculation processes\n\nWhether you’re in real estate\, property management\, or involved in sector-specific operations\, this session will equip you with valuable insights into proper floor area assessment. \nDon’t miss this opportunity to enhance your understanding and ensure your measurements are aligned with industry requirements. \nThe webinar is CPD accredited in partnership with the Association of South African Quantity Surveyors (ASAQS) \n\nCPD hours: 2\nCategory 1\n\n\n\nCosts\nMembers: R1 100 excluding VAT\nNon-Members: R2 200 excluding VAT \n\nSpeakers\n \nAnthony Gebhardt\nPartner – Hamlyn Gebhart\, Quantity Surveyor \n\nRegister now\n\nCancellation Policy\n\nPaid delegates who do not cancel at least 24 hours in advance\, or who fail to log in for the webinar\, will not be eligible for a refund.\nDelegates who register without payment will still be held liable for the outstanding amount.
URL:https://sapoa.org.za/event/method-for-measuring-floor-areas-in-buildings/
CATEGORIES:Online
END:VEVENT
BEGIN:VEVENT
DTSTART;TZID=Africa/Johannesburg:20250826T140000
DTEND;TZID=Africa/Johannesburg:20250826T163000
DTSTAMP:20260424T234634
CREATED:20250718T114131Z
LAST-MODIFIED:20250718T114131Z
UID:6821-1756216800-1756225800@sapoa.org.za
SUMMARY:SAPOA Women's High Tea - KwaZulu-Natal
DESCRIPTION:SAPOA invites you to attend the Women’s High Tea – Western Cape. \n\n\nCosts\nMembers: R 695 excluding VAT\nNon-Members: R1 200 excluding VAT \n\nRegister now\n 
URL:https://sapoa.org.za/event/sapoa-womens-high-tea-kwazulu-natal/
LOCATION:Mount Edgecombe Country Club\, Golf Course Dr. Mount Edgecombe\, Durban\, KwaZulu-Natal
CATEGORIES:KwaZulu-Natal
END:VEVENT
BEGIN:VEVENT
DTSTART;TZID=Africa/Johannesburg:20250828T100000
DTEND;TZID=Africa/Johannesburg:20250828T110000
DTSTAMP:20260424T234634
CREATED:20250512T200141Z
LAST-MODIFIED:20250716T065511Z
UID:6537-1756375200-1756378800@sapoa.org.za
SUMMARY:Negotiations and Special Terms in a Lease Agreement Rental Collection Methods
DESCRIPTION:Negotiations and Special Terms in a Lease Agreement Rental Collection Methods\n\nContract law within South Africa\nEssential terms of a commercial lease agreement (Essentialia)\nUnderstanding the departure point of any negotiation\nBuilding Trust\nNon-negotiable terms\nUnderstanding the prospective tenant’s needs and business\nNegotiations after the commencement of the lease agreement\nCommercial Rentals – Special Terms\n\n\nCosts\nMembers: R550 excluding VAT\nNon-Members: R1 100 excluding VAT \n\nSpeaker\n \nNicholas Brodie\nDirector\nSBL Incorporated \n\nCancellation Policy\n\nPaid delegates who do not cancel at least 24 hours in advance\, or who fail to log in for the webinar\, will not be eligible for a refund.\nDelegates who register without payment will still be held liable for the outstanding amount.\n\n\nRegister now\n 
URL:https://sapoa.org.za/event/negotiations-and-special-terms-in-a-lease-agreement-rental-collection-methods/
CATEGORIES:Online
END:VEVENT
END:VCALENDAR