BEGIN:VCALENDAR
VERSION:2.0
PRODID:-//Sapoa - ECPv6.15.20//NONSGML v1.0//EN
CALSCALE:GREGORIAN
METHOD:PUBLISH
X-WR-CALNAME:Sapoa
X-ORIGINAL-URL:https://sapoa.org.za
X-WR-CALDESC:Events for Sapoa
REFRESH-INTERVAL;VALUE=DURATION:PT1H
X-Robots-Tag:noindex
X-PUBLISHED-TTL:PT1H
BEGIN:VTIMEZONE
TZID:Africa/Johannesburg
BEGIN:STANDARD
TZOFFSETFROM:+0200
TZOFFSETTO:+0200
TZNAME:SAST
DTSTART:20240101T000000
END:STANDARD
END:VTIMEZONE
BEGIN:VEVENT
DTSTART;TZID=Africa/Johannesburg:20251007T090000
DTEND;TZID=Africa/Johannesburg:20251007T120000
DTSTAMP:20260424T200352
CREATED:20250808T094608Z
LAST-MODIFIED:20250901T095845Z
UID:6952-1759827600-1759838400@sapoa.org.za
SUMMARY:Understanding the impact and use of Real Estate Valuations
DESCRIPTION:Understanding the impact and use of Real Estate Valuations\nReal estate valuation is more than just determining the price of a property — it is a critical tool that influences decision-making across the property\, finance\, investment\, legal\, and public sectors. Accurate\, transparent\, and credible valuations are the backbone of a functioning property market and have far-reaching implications. \nJoin the webinar as we unpack – \n\nThe importance of immovable property valuations\nUnderstanding the legal\, economic and financial context of income producing properties\nResearch and analysis of components of the valuation report\nFactors to consider in the valuing of specialised properties\n\n\n\nCosts\nMembers: R3 300 excluding VAT\nNon-Members: R6 600 excluding VAT \n\nSpeakers\n \nTracy Myers\nProperty Valuer\nStandard Bank \n\nRegister now\n  \n\nThis Session is Accredited by
URL:https://sapoa.org.za/event/understanding-the-impact-and-use-of-real-estate-valuations/
CATEGORIES:Online
END:VEVENT
BEGIN:VEVENT
DTSTART;TZID=Africa/Johannesburg:20251009T100000
DTEND;TZID=Africa/Johannesburg:20251009T110000
DTSTAMP:20260424T200352
CREATED:20250911T211014Z
LAST-MODIFIED:20250911T211014Z
UID:7100-1760004000-1760007600@sapoa.org.za
SUMMARY:The Rental Collection Methods
DESCRIPTION:The Rental Collection Methods Webinar\nThis session will provide an in-depth overview of effective strategies and practical approaches to ensure a streamlined and efficient rental collection process. \n\nAlternative Dispute Resolution remedies\nArbitration\nLitigation\nAdvantages to using alternative resolution strategies\nNegotiation and Settlement\nUtilisation of deposits and securities\nCollection from a surety / guarantee\nAttachment of bank accounts\n\n\n\nCosts\nMembers: R550 excluding VAT\nNon-Members: R1 100 excluding VAT \n\nSpeakers\n \nNicholas Brodie\nDirector\nSBL Inc \n\nRegister now
URL:https://sapoa.org.za/event/the-rental-collection-methods/
CATEGORIES:Online
END:VEVENT
BEGIN:VEVENT
DTSTART;TZID=Africa/Johannesburg:20251014T083000
DTEND;TZID=Africa/Johannesburg:20251014T103000
DTSTAMP:20260424T200352
CREATED:20250911T205701Z
LAST-MODIFIED:20250911T205935Z
UID:7093-1760430600-1760437800@sapoa.org.za
SUMMARY:Gqeberha Networking Breakfast
DESCRIPTION:The Economy and Property Are Slow Turning Ships… But Certain Underlying Fundamentals Do Give Cause for Some Cautious Optimism.\nJohn Loos\, FNB Property Economist\, will take you through his views on where we are in the property market cycle\, which is strongly related to the economic supercycle\, why he remains cautiously optimistic for prospects in the coming years\, and the risks that accompany any future views…certain of those risks\, notably US-driven tariff wars\, highly relevant to Nelson Mandela Bay’s economy and property market. \nJoin us as we delve into the property market cycle and its close ties to the global economic supercycle. \n\nCosts\nMembers: R500 excluding VAT\nNon-Members: R950 excluding VAT \n\nSpeakers\n \nJohn Loos\n(Economist\, Strategist\, Coach\, Speaker and MC) \n\nRegister Starts\n08:00 am \n\nRegister before\n10 October 2025 \n\nRegister now\n \n  \n 
URL:https://sapoa.org.za/event/gqeberha-networking-breakfast/
LOCATION:FNB Offices\, Newton Park\, 293 Cape Road\, Gqeberha\, Eastern Cape\, 6045
CATEGORIES:Eastern Cape
END:VEVENT
BEGIN:VEVENT
DTSTART;TZID=Africa/Johannesburg:20251030T100000
DTEND;TZID=Africa/Johannesburg:20251030T110000
DTSTAMP:20260424T200352
CREATED:20250626T130703Z
LAST-MODIFIED:20250716T070150Z
UID:6701-1761818400-1761822000@sapoa.org.za
SUMMARY:SAPOA South African Headline Returns and Net Income Drivers H1 2025
DESCRIPTION:SAPOA South African Headline Returns and Net Income Drivers H1 2025\nThe SAPOA South African Property Trends Report delves into the performance of institutionally owned\, professionally managed investment properties in South Africa\, focusing specifically on their ungeared investment performance. The webinar will examination of the current state of the property sector’s fundamentals\, explores the drivers of return\, and evaluates investment performance across various property types. \n\nCosts\nMembers: R250 excluding VAT\nNon-Members: R425 excluding VAT \n\nSpeaker\n \nEileen Andrew\nVice President at MSCI \n\nCancellation Policy\n\nPaid delegates who do not cancel at least 24 hours in advance\, or who fail to log in for the webinar\, will not be eligible for a refund.\nDelegates who register without payment will still be held liable for the outstanding amount.\n\n\nRSVP before\n28 October 2025 \n\nRegister now\n 
URL:https://sapoa.org.za/event/sapoa-south-african-headline-returns-and-net-income-drivers-h1-2025/
CATEGORIES:Online
END:VEVENT
END:VCALENDAR