BEGIN:VCALENDAR
VERSION:2.0
PRODID:-//Sapoa - ECPv6.15.20//NONSGML v1.0//EN
CALSCALE:GREGORIAN
METHOD:PUBLISH
X-ORIGINAL-URL:https://sapoa.org.za
X-WR-CALDESC:Events for Sapoa
REFRESH-INTERVAL;VALUE=DURATION:PT1H
X-Robots-Tag:noindex
X-PUBLISHED-TTL:PT1H
BEGIN:VTIMEZONE
TZID:Africa/Johannesburg
BEGIN:STANDARD
TZOFFSETFROM:+0200
TZOFFSETTO:+0200
TZNAME:SAST
DTSTART:20240101T000000
END:STANDARD
END:VTIMEZONE
BEGIN:VEVENT
DTSTART;TZID=Africa/Johannesburg:20251105T090000
DTEND;TZID=Africa/Johannesburg:20251105T103000
DTSTAMP:20260424T185607
CREATED:20250709T210646Z
LAST-MODIFIED:20250821T140739Z
UID:6770-1762333200-1762338600@sapoa.org.za
SUMMARY:East London Morning Networking session
DESCRIPTION:SAPOA invites you to attend the East London Morning Networking session \n\n\nCosts\nMembers: R 200 excluding VAT\nNon-Members: R500 excluding VAT \n\nRegister before\n06 November 2025 \n\nRegister now\n\n\nCancellation Policy\n\nPayment is due upon receipt of the invoice.\nCancellations will only be accepted if submitted in writing at least 3 full business days prior to the event.\nFailure to cancel within this time frame will result in liability for the full outstanding amount\, even if you do not attend.\n“No-shows” will be charged the full event fee unless cancellation has been received in accordance with the policy.\n\n\n  \n 
URL:https://sapoa.org.za/event/east-london-morning-networking-session/
LOCATION:Warm Karos\, 17 St. Andrews Road Selborne\, East London\, Eastern Cape\, South Africa
CATEGORIES:Eastern Cape
END:VEVENT
BEGIN:VEVENT
DTSTART;TZID=Africa/Johannesburg:20251111T100000
DTEND;TZID=Africa/Johannesburg:20251111T110000
DTSTAMP:20260424T185607
CREATED:20250626T125950Z
LAST-MODIFIED:20250716T070208Z
UID:6697-1762855200-1762858800@sapoa.org.za
SUMMARY:SAPOA Global Trends 2025 in Real Estate
DESCRIPTION:SAPOA Global Trends 2025 in Real Estate\nIn this webinar\, MSCI will unpack the prevailing trends in global real estate markets. Drawing on the extensive resources of MSCI’s real estate indexes and Real Capital Analytics’ global transactions database\, the report meticulously examines capital flows\, property performance trends\, and fundamental indicators. \n\nCosts\nMembers: R250 excluding VAT\nNon-Members: R425 excluding VAT \n\nSpeaker\n \nEileen Andrew\nVice President at MSCI \n\nCancellation Policy\n\nPaid delegates who do not cancel at least 24 hours in advance\, or who fail to log in for the webinar\, will not be eligible for a refund.\nDelegates who register without payment will still be held liable for the outstanding amount.\n\n\nRSVP before\n7 November 2025 \n\nRegister now\n 
URL:https://sapoa.org.za/event/sapoa-global-trends-2025-in-real-estate/
CATEGORIES:Online
END:VEVENT
BEGIN:VEVENT
DTSTART;TZID=Africa/Johannesburg:20251125T173000
DTEND;TZID=Africa/Johannesburg:20251125T203000
DTSTAMP:20260424T185607
CREATED:20251024T125238Z
LAST-MODIFIED:20251027T071139Z
UID:7215-1764091800-1764102600@sapoa.org.za
SUMMARY:KZN Networking Function
DESCRIPTION:We are excited to invite you to the KwaZulu-Natal Regional Chapter’s exclusive networking event\, where industry professionals\, thought leaders\, and innovators converge. \nThis is your chance to forge meaningful connections\, exchange transformative ideas\, and grow your professional network\, all within this engaging and dynamic platform \n\nRegistration\nRegistration is at  17h00 \n\nCosts\nMembers: R200 excluding VAT\nNon-Members: R500 excluding VAT \n\nRegister now\n\nCancellation Policy\n\nPaid delegates who do not cancel at least 24 hours in advance\, or who fail to log in for the webinar\, will not be eligible for a refund.\nDelegates who register without payment will still be held liable for the outstanding amount.
URL:https://sapoa.org.za/event/kzn-networking-function-2/
LOCATION:Prodigal Son Umhlanga\, 1 Ncondo Pl Umhlanga Ridge\, uMhlanga\, Kwa-Zulu Natal\, 4019\, South Africa
CATEGORIES:KwaZulu-Natal
END:VEVENT
BEGIN:VEVENT
DTSTART;TZID=Africa/Johannesburg:20251126T100000
DTEND;TZID=Africa/Johannesburg:20251126T110000
DTSTAMP:20260424T185607
CREATED:20251113T105135Z
LAST-MODIFIED:20251113T130803Z
UID:7423-1764151200-1764154800@sapoa.org.za
SUMMARY:Trends in the commercial property law latest judgments from the courts Webinar
DESCRIPTION:s \n\nRSVP\nRegistration\n 
URL:https://sapoa.org.za/event/trends-in-the-commercial-property-law-latest-judgments-from-the-courts-webinar/
CATEGORIES:Online
END:VEVENT
BEGIN:VEVENT
DTSTART;TZID=Africa/Johannesburg:20251126T173000
DTEND;TZID=Africa/Johannesburg:20251126T203000
DTSTAMP:20260424T185607
CREATED:20251016T134104Z
LAST-MODIFIED:20251016T141840Z
UID:7195-1764178200-1764189000@sapoa.org.za
SUMMARY:Gauteng Networking Function
DESCRIPTION:We are excited to invite you to the Gauteng Regional Chapter’s exclusive networking event\, where industry professionals\, thought leaders\, and innovators converge. \nThis is your chance to forge meaningful connections\, exchange transformative ideas\, and grow your professional network\, all within this engaging and dynamic platform. \n\nCosts\nMembers: R200 excluding VAT\nNon-Members: R500 excluding VAT \n\nRegister now\n\nCancellation Policy\n\nPaid delegates who do not cancel at least 24 hours in advance\, or who fail to log in for the webinar\, will not be eligible for a refund.\nDelegates who register without payment will still be held liable for the outstanding amount.
URL:https://sapoa.org.za/event/gauteng-networking-function/
LOCATION:Proud Mary\, The Bank 26 Cradock Ave Rosebank\, Johannesburg\, Gauteng\, 2196\, South Africa
CATEGORIES:Gauteng
END:VEVENT
BEGIN:VEVENT
DTSTART;TZID=Africa/Johannesburg:20251127T090000
DTEND;TZID=Africa/Johannesburg:20251127T100000
DTSTAMP:20260424T185607
CREATED:20251112T134647Z
LAST-MODIFIED:20251113T104722Z
UID:7414-1764234000-1764237600@sapoa.org.za
SUMMARY:Mixed-Use Developments in South Africa Webinar
DESCRIPTION:RSVP\nRegistration\n 
URL:https://sapoa.org.za/event/mixed-use-developments-in-south-africa-webinar/
CATEGORIES:Online
END:VEVENT
BEGIN:VEVENT
DTSTART;TZID=Africa/Johannesburg:20251127T173000
DTEND;TZID=Africa/Johannesburg:20251127T203000
DTSTAMP:20260424T185607
CREATED:20251111T112132Z
LAST-MODIFIED:20251111T112132Z
UID:7398-1764264600-1764275400@sapoa.org.za
SUMMARY:WC Networking Function
DESCRIPTION:We are excited to invite you to the Western Cape Regional Chapter’s exclusive networking event\, where industry professionals\, thought leaders\, and innovators converge. \nThis is your chance to forge meaningful connections\, exchange transformative ideas\, and grow your professional network\, all within this engaging and dynamic platform. \n\n\nCosts\nMembers: R200 excluding VAT\nNon-Members: R500 excluding VAT \n\nRSVP\nAccept\nDecline\nRSVP Before: 25 November 2025 \n\nCancellation Policy\n\nPayment is due upon receipt of the invoice.\nCancellations will only be accepted if submitted in writing at least 3 full business days prior to the event.\nFailure to cancel within this time frame will result in liability for the full outstanding amount\, even if you do not attend.\n“No-shows” will be charged the full event fee unless cancellation has been received in accordance with the policy.\n\n\nSponsored by
URL:https://sapoa.org.za/event/wc-networking-function/
LOCATION:Harry’s Oyster Bar\, V&A Alfred Hotel\, Shop 8\, V&A Waterfront\, Cape Town\, Western Cape\, South Africa
CATEGORIES:Western Cape
END:VEVENT
END:VCALENDAR