BEGIN:VCALENDAR
VERSION:2.0
PRODID:-//Sapoa - ECPv6.15.20//NONSGML v1.0//EN
CALSCALE:GREGORIAN
METHOD:PUBLISH
X-ORIGINAL-URL:https://sapoa.org.za
X-WR-CALDESC:Events for Sapoa
REFRESH-INTERVAL;VALUE=DURATION:PT1H
X-Robots-Tag:noindex
X-PUBLISHED-TTL:PT1H
BEGIN:VTIMEZONE
TZID:Africa/Johannesburg
BEGIN:STANDARD
TZOFFSETFROM:+0200
TZOFFSETTO:+0200
TZNAME:SAST
DTSTART:20250101T000000
END:STANDARD
END:VTIMEZONE
BEGIN:VEVENT
DTSTART;TZID=Africa/Johannesburg:20260205T103000
DTEND;TZID=Africa/Johannesburg:20260205T110000
DTSTAMP:20260424T145815
CREATED:20251208T061733Z
LAST-MODIFIED:20260115T130632Z
UID:7622-1770287400-1770289200@sapoa.org.za
SUMMARY:Commercial Real Estate Sector Webinar - Members Only!
DESCRIPTION:RSVP\nRegister Now\n\nCancellation Policy\n\nPayment is due upon receipt of the invoice.\nCancellations will only be accepted if submitted in writing at least 3 full business days prior to the event.\nFailure to cancel within this time frame will result in liability for the full outstanding amount\, even if you do not attend.\n“No-shows” will be charged the full event fee unless cancellation has been received in accordance with the policy.
URL:https://sapoa.org.za/event/commercial-real-estate-sector-webinar/
CATEGORIES:Online
END:VEVENT
BEGIN:VEVENT
DTSTART;TZID=Africa/Johannesburg:20260217T173000
DTEND;TZID=Africa/Johannesburg:20260217T203000
DTSTAMP:20260424T145815
CREATED:20251127T130717Z
LAST-MODIFIED:20260113T135503Z
UID:7575-1771349400-1771360200@sapoa.org.za
SUMMARY:SAPOA Gqeberha Networking Feb 2026
DESCRIPTION:RSVP\nRegister Now\n\nCancellation Policy\n\nPayment is due upon receipt of the invoice.\nCancellations will only be accepted if submitted in writing at least 3 full business days prior to the event.\nFailure to cancel within this time frame will result in liability for the full outstanding amount\, even if you do not attend.\n“No-shows” will be charged the full event fee unless cancellation has been received in accordance with the policy.
URL:https://sapoa.org.za/event/sapoa-gqeberha-networking-feb-2026/
LOCATION:145 Main Road\, 145 Main Road\, Walmer\, Gqeberha\, Eastern Cape\, 6065\, South Africa
CATEGORIES:Port Elizabeth Events
END:VEVENT
BEGIN:VEVENT
DTSTART;TZID=Africa/Johannesburg:20260225T100000
DTEND;TZID=Africa/Johannesburg:20260225T120000
DTSTAMP:20260424T145815
CREATED:20251031T115906Z
LAST-MODIFIED:20260206T110523Z
UID:7251-1772013600-1772020800@sapoa.org.za
SUMMARY:Real Estate Smart Application for lease vacancies
DESCRIPTION:RSVP\nRegister Now\nRSVP Before: 23 February 2026 \n\nCancellation Policy\n\nPaid delegates who do not cancel at least 24 hours in advance\, or who fail to log in for the webinar\, will not be eligible for a refund.\nDelegates who register without payment will still be held liable for the outstanding amount.
URL:https://sapoa.org.za/event/real-estate-smart-application-for-lease-vacancies/
CATEGORIES:Online
END:VEVENT
BEGIN:VEVENT
DTSTART;TZID=Africa/Johannesburg:20260226T100000
DTEND;TZID=Africa/Johannesburg:20260226T113000
DTSTAMP:20260424T145815
CREATED:20260126T093727Z
LAST-MODIFIED:20260219T111241Z
UID:7738-1772100000-1772105400@sapoa.org.za
SUMMARY:The Facilities Management Revolution in Real Estate
DESCRIPTION:RSVP\nRegister Now\n\nCancellation Policy\n\nPaid delegates who do not cancel at least 24 hours in advance\, or who fail to log in for the webinar\, will not be eligible for a refund.\nDelegates who register without payment will still be held liable for the outstanding amount.\n\n 
URL:https://sapoa.org.za/event/the-facilities-management-revolution-in-real-estate/
CATEGORIES:Online
END:VEVENT
END:VCALENDAR