BEGIN:VCALENDAR
VERSION:2.0
PRODID:-//Sapoa - ECPv6.15.20//NONSGML v1.0//EN
CALSCALE:GREGORIAN
METHOD:PUBLISH
X-WR-CALNAME:Sapoa
X-ORIGINAL-URL:https://sapoa.org.za
X-WR-CALDESC:Events for Sapoa
REFRESH-INTERVAL;VALUE=DURATION:PT1H
X-Robots-Tag:noindex
X-PUBLISHED-TTL:PT1H
BEGIN:VTIMEZONE
TZID:Africa/Johannesburg
BEGIN:STANDARD
TZOFFSETFROM:+0200
TZOFFSETTO:+0200
TZNAME:SAST
DTSTART:20250101T000000
END:STANDARD
END:VTIMEZONE
BEGIN:VEVENT
DTSTART;TZID=Africa/Johannesburg:20260303T100000
DTEND;TZID=Africa/Johannesburg:20260303T110000
DTSTAMP:20260424T133457
CREATED:20251201T102617Z
LAST-MODIFIED:20260220T071814Z
UID:7607-1772532000-1772535600@sapoa.org.za
SUMMARY:SAPOA Research Webinar - Retail Benchmarking
DESCRIPTION:  \n \n\nRSVP\nRegistration\nRSVP Before: 24 February 2026 \n\nCancellation Policy\n\nPaid delegates who do not cancel at least 24 hours in advance\, or who fail to log in for the webinar\, will not be eligible for a refund.\nDelegates who register without payment will still be held liable for the outstanding amount.
URL:https://sapoa.org.za/event/sapoa-research-webinar-retail-benchmarking/
CATEGORIES:Online
END:VEVENT
BEGIN:VEVENT
DTSTART;TZID=Africa/Johannesburg:20260304T100000
DTEND;TZID=Africa/Johannesburg:20260304T110000
DTSTAMP:20260424T133457
CREATED:20251124T230608Z
LAST-MODIFIED:20260210T103713Z
UID:7453-1772618400-1772622000@sapoa.org.za
SUMMARY:Negotiations and Special Terms in Lease Agreements: Rental Collection Methods Webinar
DESCRIPTION:RSVP\nRegister Now\nRSVP Before: 23 February 2026 \n\nCancellation Policy\n\nPaid delegates who do not cancel at least 24 hours in advance\, or who fail to log in for the webinar\, will not be eligible for a refund.\nDelegates who register without payment will still be held liable for the outstanding amount.\n\n 
URL:https://sapoa.org.za/event/negotiations-and-special-terms-in-lease-agreements-rental-collection-methods-webinar/
CATEGORIES:Online
END:VEVENT
BEGIN:VEVENT
DTSTART;TZID=Africa/Johannesburg:20260311T083000
DTEND;TZID=Africa/Johannesburg:20260311T113000
DTSTAMP:20260424T133457
CREATED:20260126T094700Z
LAST-MODIFIED:20260225T104903Z
UID:7742-1773217800-1773228600@sapoa.org.za
SUMMARY:SAPOA Mpumalanga Breakfast
DESCRIPTION:RSVP\nRegister Now\nRSVP Before:  9 March 2026 \n\nCancellation Policy\n\nPaid delegates who do not cancel at least 24 hours in advance\, or who fail to log in for the webinar\, will not be eligible for a refund.\nDelegates who register without payment will still be held liable for the outstanding amount.\n\n  \n 
URL:https://sapoa.org.za/event/sapoa-mpumalanga-breakfast/
CATEGORIES:Mpumalanga
END:VEVENT
BEGIN:VEVENT
DTSTART;TZID=Africa/Johannesburg:20260326T100000
DTEND;TZID=Africa/Johannesburg:20260326T120000
DTSTAMP:20260424T133457
CREATED:20260123T192953Z
LAST-MODIFIED:20260317T062348Z
UID:7730-1774519200-1774526400@sapoa.org.za
SUMMARY:Property Finance in Real Estate Webinar
DESCRIPTION:RSVP\nRegister Now\nRSVP Before: 23 March 2026 \n\nCancellation Policy\n\nPaid delegates who do not cancel at least 24 hours in advance\, or who fail to log in for the webinar\, will not be eligible for a refund.\nDelegates who register without payment will still be held liable for the outstanding amount.\n\n 
URL:https://sapoa.org.za/event/finance-in-real-estate-webinar/
CATEGORIES:Online
END:VEVENT
END:VCALENDAR