BEGIN:VCALENDAR
VERSION:2.0
PRODID:-//Sapoa - ECPv6.15.20//NONSGML v1.0//EN
CALSCALE:GREGORIAN
METHOD:PUBLISH
X-ORIGINAL-URL:https://sapoa.org.za
X-WR-CALDESC:Events for Sapoa
REFRESH-INTERVAL;VALUE=DURATION:PT1H
X-Robots-Tag:noindex
X-PUBLISHED-TTL:PT1H
BEGIN:VTIMEZONE
TZID:Africa/Johannesburg
BEGIN:STANDARD
TZOFFSETFROM:+0200
TZOFFSETTO:+0200
TZNAME:SAST
DTSTART:20250101T000000
END:STANDARD
END:VTIMEZONE
BEGIN:VEVENT
DTSTART;TZID=Africa/Johannesburg:20260429T100000
DTEND;TZID=Africa/Johannesburg:20260429T113000
DTSTAMP:20260424T121643
CREATED:20260325T072753Z
LAST-MODIFIED:20260420T121247Z
UID:8605-1777456800-1777462200@sapoa.org.za
SUMMARY:Leasing 101-mastering the complexities of Your Commercial Lease - Under Your Lease part 2
DESCRIPTION:Cancellation Policy\n\nPaid delegates who do not cancel at least 24 hours in advance\, or who fail to log in for the webinar\, will not be eligible for a refund.\nDelegates who register without payment will still be held liable for the outstanding amount.\n\n 
URL:https://sapoa.org.za/event/leasing-101-mastering-the-complexities-of-your-commercial-lease-under-your-lease-part-2/
CATEGORIES:Online
END:VEVENT
END:VCALENDAR